Workbook

Sheet 2026
B1: ◄ izbor kalkulacije | H1: EKONOMSKI KAZALCI PRI RAZLIČNI INTENZIVNOSTI IN VELIKOSTI PARCELE
A2: Pšenica | B2: KMETIJSKI INŠTITUT SLOVENIJE
A3: Pšenica | B3: Oddelek za ekonomiko kmetijstva | D3: psenica | E3: psenica | H3: psenicaB | I3: psenicaC | J3: psenicaA | K3: psenicaD | L3: psenicaE | M3: psenicaF
A4: Pšenica | B4: Pšenica | D4: 2025 | E4: 2026* | F4: Indeks 2026*/25 | J4: 2026* | R4: Indeks: M 3 = 100
A5: Pšenica | B5: Model | C5: Enota | H5: M 1 | I5: M 2 | J5: M 3 | K5: M 4 | L5: M 5 | M5: M 6 | P5: M 1 | Q5: M 2 | R5: M 3 | S5: M 4 | T5: M 5 | U5: M 6
A6: Pšenica | B6: Intenzivnost pridelave | C6: Kg/ha | D6: 6000 | E6: 6000 | H6: 7000 | I6: 6500 | J6: 6000 | K6: 5500 | L6: 5000 | M6: 6000 | P6: 116.66667 | Q6: 108.33333 | R6: 100 | S6: 91.666667 | T6: 83.333333 | U6: 100
A7: Pšenica
A8: Pšenica
A9: Pšenica | B9: Velikost poljine | C9: ha | D9: 1 | E9: 1 | F9: 100 | H9: 1 | I9: 1 | J9: 1 | K9: 1 | L9: 1 | M9: 5 | P9: 100 | Q9: 100 | R9: 100 | S9: 100 | T9: 100 | U9: 500
A10: Pšenica | B10: IZVLEČEK ANALITIČNE KALKULACIJE
A11: Pšenica | B11: Stroški blaga in storitev | C11: EUR/ha | D11: 1658.9322 | E11: 1757.8259 | F11: 105.96129 | H11: 1971.4815 | I11: 1878.5937 | J11: 1757.8259 | K11: 1677.7203 | L11: 1592.6901 | M11: 1697.3982 | P11: 112.15454 | Q11: 106.8703 | R11: 100 | S11: 95.442915 | T11: 90.605683 | U11: 96.562362
A12: Pšenica | B12: Od tega: seme | C12: EUR/ha | D12: 133 | E12: 133 | F12: 100 | H12: 133 | I12: 133 | J12: 133 | K12: 133 | L12: 133 | M12: 133 | P12: 100 | Q12: 100 | R12: 100 | S12: 100 | T12: 100 | U12: 100
A13: Pšenica | B13: gnojila | C13: EUR/ha | D13: 450.89315 | E13: 500.35565 | F13: 110.96989 | H13: 583.40623 | I13: 541.88094 | J13: 500.35565 | K13: 458.83036 | L13: 417.30507 | M13: 500.35565 | P13: 116.59831 | Q13: 108.29916 | R13: 100 | S13: 91.700845 | T13: 83.40169 | U13: 100
A14: Pšenica | B14: sredstva za varstvo | C14: EUR/ha | D14: 167.89149 | E14: 169.92129 | F14: 101.209 | H14: 218.3718 | I14: 199.56504 | J14: 169.92129 | K14: 169.92129 | L14: 169.92129 | M14: 169.92129 | P14: 128.5135 | Q14: 117.44558 | R14: 100 | S14: 100 | T14: 100 | U14: 100
A15: Pšenica | B15: najete storitve | C15: EUR/ha | D15: 513.24236 | E15: 540.59953 | F15: 105.33026 | H15: 590.61612 | I15: 565.60783 | J15: 540.59953 | K15: 515.59124 | L15: 490.58295 | M15: 540.59953 | P15: 109.25206 | Q15: 104.62603 | R15: 100 | S15: 95.37397 | T15: 90.747941 | U15: 100
A16: Pšenica | B16: zavarovanje | C16: EUR/ha | D16: 18.8244 | E16: 14.1183 | F16: 75 | H16: 16.47135 | I16: 15.294825 | J16: 14.1183 | K16: 12.941775 | L16: 11.76525 | M16: 14.1183 | P16: 116.66667 | Q16: 108.33333 | R16: 100 | S16: 91.666667 | T16: 83.333333 | U16: 100
A17: Pšenica | B17: domače strojne storitve | C17: EUR/ha | D17: 343.86887 | E17: 367.03242 | F17: 106.73616 | H17: 392.08412 | I17: 387.80101 | J17: 367.03242 | K17: 356.6664 | L17: 341.56966 | M17: 307.88189 | P17: 106.82547 | Q17: 105.65852 | R17: 100 | S17: 97.175721 | T17: 93.062531 | U17: 83.884113
A18: Pšenica | B18: Amortizacija | C18: EUR/ha | D18: 0 | E18: 0 | H18: 0 | I18: 0 | J18: 0 | K18: 0 | L18: 0 | M18: 0
A19: Pšenica | B19: Stroški domačega dela in kapitala | C19: EUR/ha | D19: 390.04553 | E19: 418.00044 | F19: 107.16709 | H19: 456.00282 | I19: 443.78073 | J19: 418.00044 | K19: 401.86181 | L19: 380.53005 | M19: 377.53393 | P19: 109.09147 | Q19: 106.16753 | R19: 100 | S19: 96.139087 | T19: 91.035801 | U19: 90.319026
A20: Pšenica | B20: Od tega: domače delo neto | C20: EUR/ha | D20: 170.13057 | E20: 183.57089 | F20: 107.9 | H20: 203.35756 | I20: 196.90279 | J20: 183.57089 | K20: 175.12921 | L20: 163.72111 | M20: 164.02097 | P20: 110.77876 | Q20: 107.26254 | R20: 100 | S20: 95.401409 | T20: 89.186862 | U20: 89.35021
A21: Pšenica | B21: Stroški skupaj | C21: EUR/ha | D21: 2048.9777 | E21: 2175.8263 | F21: 106.19082 | H21: 2427.4843 | I21: 2322.3745 | J21: 2175.8263 | K21: 2079.5821 | L21: 1973.2202 | M21: 2074.9321 | P21: 111.56609 | Q21: 106.73529 | R21: 100 | S21: 95.576658 | T21: 90.688313 | U21: 95.362948
A22: Pšenica | B22: Stranski pridelki | C22: EUR/ha | D22: 345.43011 | E22: 363.115 | F22: 105.11967 | H22: 418.71639 | I22: 390.91569 | J22: 363.115 | K22: 325.47875 | L22: 297.67806 | M22: 363.115 | P22: 115.31234 | Q22: 107.65617 | R22: 100 | S22: 89.635172 | T22: 81.979004 | U22: 100 | X22: Slika 1: Cenovne meje doseganja paritetnega dohodka - PŠENICA,
A23: Pšenica | B23: Stroški glavnega pridelka | C23: EUR/ha | D23: 1703.5476 | E23: 1812.7113 | F23: 106.40802 | H23: 2008.7679 | I23: 1931.4588 | J23: 1812.7113 | K23: 1754.1033 | L23: 1675.5421 | M23: 1711.8171 | P23: 110.81565 | Q23: 106.55082 | R23: 100 | S23: 96.766832 | T23: 92.432927 | U23: 94.434072 | X23: 2026, začasna oktobrska ocena, upoštevani stroški zmanjšani za subvencije
A24: Pšenica | B24: Subvencije | C24: EUR/ha | D24: 202.78 | E24: 202.78 | F24: 100 | H24: 202.78 | I24: 202.78 | J24: 202.78 | K24: 202.78 | L24: 202.78 | M24: 202.78 | P24: 100 | Q24: 100 | R24: 100 | S24: 100 | T24: 100 | U24: 100
A25: Pšenica | B25: Stroški, zmanjšani za subvencije | C25: EUR/ha | D25: 1500.7676 | E25: 1609.9313 | F25: 107.27386 | H25: 1805.9879 | I25: 1728.6788 | J25: 1609.9313 | K25: 1551.3233 | L25: 1472.7621 | M25: 1509.0371 | P25: 112.17795 | Q25: 107.37593 | R25: 100 | S25: 96.359596 | T25: 91.479811 | U25: 93.733012
A26: Pšenica | B26: Stroški, zmanjšani za subvencije/kg | C26: EUR/kg | D26: 0.25012794 | E26: 0.26832189 | F26: 107.27386 | H26: 0.25799827 | I26: 0.26595058 | J26: 0.26832189 | K26: 0.28205879 | L26: 0.29455243 | M26: 0.25150619 | P26: 96.152525 | Q26: 99.116245 | R26: 100 | S26: 105.11956 | T26: 109.77577 | U26: 93.733012
A27: Pšenica | B27: Prodajna cena | C27: EUR/kg | D27: 0.193 | E27: 0.185 | F27: 95.854922 | H27: 0.185 | I27: 0.185 | J27: 0.185 | K27: 0.185 | L27: 0.185 | M27: 0.185 | P27: 100 | Q27: 100 | R27: 100 | S27: 100 | T27: 100 | U27: 100
A28: Pšenica | B28: Vrednost proizvodnje skupaj | C28: EUR/ha | D28: 1706.2101 | E28: 1675.895 | F28: 98.223249 | H28: 1916.4964 | I28: 1796.1957 | J28: 1675.895 | K28: 1545.7588 | L28: 1425.4581 | M28: 1675.895 | P28: 114.35659 | Q28: 107.1783 | R28: 100 | S28: 92.234821 | T28: 85.056526 | U28: 100
A29: Pšenica | B29: Od tega interna realizacija | C29: EUR/ha | D29: 0 | E29: 0 | H29: 0 | I29: 0 | J29: 0 | K29: 0 | L29: 0 | M29: 0
A30: Pšenica | B30: OBRAČUN DOHODKA
A31: Pšenica | B31: Vrednost finalne proizvodnje skupaj | C31: EUR/ha | D31: 1706.2101 | E31: 1675.895 | F31: 98.223249 | H31: 1916.4964 | I31: 1796.1957 | J31: 1675.895 | K31: 1545.7588 | L31: 1425.4581 | M31: 1675.895 | P31: 114.35659 | Q31: 107.1783 | R31: 100 | S31: 92.234821 | T31: 85.056526 | U31: 100
A32: Pšenica | B32: Stroški zmanjšani za interno realizacijo | C32: EUR/ha | D32: 2048.9777 | E32: 2175.8263 | F32: 106.19082 | H32: 2427.4843 | I32: 2322.3745 | J32: 2175.8263 | K32: 2079.5821 | L32: 1973.2202 | M32: 2074.9321 | P32: 111.56609 | Q32: 106.73529 | R32: 100 | S32: 95.576658 | T32: 90.688313 | U32: 95.362948
A33: Pšenica | B33: Stroški kupljenega blaga in storitev | C33: EUR/ha | D33: 1473.6147 | E33: 1569.0872 | F33: 106.4788 | H33: 1769.016 | I33: 1678.8857 | J33: 1569.0872 | K33: 1494.3399 | L33: 1417.6066 | M33: 1539.2879 | P33: 112.74172 | Q33: 106.9976 | R33: 100 | S33: 95.236256 | T33: 90.345939 | U33: 98.100848
A34: Pšenica | B34: Amortizacija | C34: EUR/ha | D34: 138.89487 | E34: 139.13454 | F34: 100.17255 | H34: 148.91711 | I34: 146.92797 | J34: 139.13454 | K34: 135.29341 | L34: 129.36521 | M34: 115.91356 | P34: 107.03102 | Q34: 105.60136 | R34: 100 | S34: 97.23927 | T34: 92.978501 | U34: 83.310413
A35: Pšenica | B35: Stroški domačega dela in kapitala | C35: EUR/ha | D35: 436.46818 | E35: 467.60454 | F35: 107.13371 | H35: 509.55121 | I35: 496.56078 | J35: 467.60454 | K35: 449.94872 | L35: 426.24837 | M35: 419.73067 | P35: 108.97054 | Q35: 106.19246 | R35: 100 | S35: 96.224198 | T35: 91.155739 | U35: 89.761889
A36: Pšenica | B36: Bruto dodana vrednost | C36: EUR/ha | D36: 232.59544 | E36: 106.80776 | F36: 45.919971 | H36: 147.48044 | I36: 117.30998 | J36: 106.80776 | K36: 51.418813 | L36: 7.8514539 | M36: 136.60711 | P36: 138.08027 | Q36: 109.83283 | R36: 100 | S36: 48.141459 | T36: 7.3510148 | U36: 127.89999
A37: Pšenica | B37: Neto dodana vrednost | C37: EUR/ha | D37: 93.700564 | E37: -32.326786 | H37: -1.4366756 | I37: -29.617991 | J37: -32.326786 | K37: -83.874601 | L37: -121.51376 | M37: 20.693549
A38: Pšenica | B38: Neto dodana vrednost/uro | C38: EUR/uro | D38: 4.428223 | E38: -1.5304996 | H38: -0.061597401 | I38: -1.308622 | J38: -1.5304996 | K38: -4.1540313 | L38: -6.423667 | M38: 1.1031224 | X38: Slika 2: Kazalniki modelne ocene dohodka - PŠENICA,
A39: Pšenica | B39: * začasna oktobrska ocena | D39: 0.018193952 | E39: 0 | H39: 0 | I39: 0 | J39: 0 | K39: 0 | L39: 0 | M39: 0 | X39: 2026, začasna oktobrska ocena
A40: Ječmen tržni | B40: KMETIJSKI INŠTITUT SLOVENIJE
A41: Ječmen tržni | B41: Oddelek za ekonomiko kmetijstva | D41: jecmenT | E41: jecmenT | H41: jecmenTB | I41: jecmenTC | J41: jecmenTA | K41: jecmenTD | L41: jecmenTE | M41: jecmenTF
A42: Ječmen tržni | B42: Ječmen tržni | D42: 2025 | E42: 2026* | F42: Indeks 2026*/25 | J42: 2026* | R42: Indeks: M 3 = 100
A43: Ječmen tržni | B43: Model | C43: Enota | H43: M 1 | I43: M 2 | J43: M 3 | K43: M 4 | L43: M 5 | M43: M 6 | P43: M 1 | Q43: M 2 | R43: M 3 | S43: M 4 | T43: M 5 | U43: M 6
A44: Ječmen tržni | B44: Intenzivnost pridelave | C44: Kg/ha | D44: 5500 | E44: 5500 | H44: 6500 | I44: 6000 | J44: 5500 | K44: 5000 | L44: 4500 | M44: 5500 | P44: 118.18182 | Q44: 109.09091 | R44: 100 | S44: 90.909091 | T44: 81.818182 | U44: 100
A45: Ječmen tržni
A46: Ječmen tržni
A47: Ječmen tržni | B47: Velikost poljine | C47: ha | D47: 1 | E47: 1 | H47: 1 | I47: 1 | J47: 1 | K47: 1 | L47: 1 | M47: 5 | P47: 100 | Q47: 100 | R47: 100 | S47: 100 | T47: 100 | U47: 500
A48: Ječmen tržni | B48: IZVLEČEK ANALITIČNE KALKULACIJE
A49: Ječmen tržni | B49: Stroški blaga in storitev | C49: EUR/ha | D49: 1558.4573 | E49: 1624.1105 | F49: 104.21271 | H49: 1801.4308 | I49: 1714.7504 | J49: 1624.1105 | K49: 1550.8206 | L49: 1452.6797 | M49: 1525.6361 | P49: 110.918 | Q49: 105.58089 | R49: 100 | S49: 95.487379 | T49: 89.444637 | U49: 93.936718
A50: Ječmen tržni | B50: Od tega: seme | C50: EUR/ha | D50: 147.62 | E50: 147.62 | F50: 100 | H50: 147.62 | I50: 147.62 | J50: 147.62 | K50: 147.62 | L50: 147.62 | M50: 147.62 | P50: 100 | Q50: 100 | R50: 100 | S50: 100 | T50: 100 | U50: 100
A51: Ječmen tržni | B51: gnojila | C51: EUR/ha | D51: 414.24469 | E51: 440.02715 | F51: 106.22397 | H51: 527.10516 | I51: 484.71796 | J51: 440.02715 | K51: 395.33634 | L51: 350.64553 | M51: 440.02715 | P51: 119.78924 | Q51: 110.15638 | R51: 100 | S51: 89.843624 | T51: 79.687247 | U51: 100
A52: Ječmen tržni | B52: sredstva za varstvo | C52: EUR/ha | D52: 156.76329 | E52: 156.87039 | F52: 100.06832 | H52: 156.87039 | I52: 156.87039 | J52: 156.87039 | K52: 156.87039 | L52: 156.87039 | M52: 156.87039 | P52: 100 | Q52: 100 | R52: 100 | S52: 100 | T52: 100 | U52: 100
A53: Ječmen tržni | B53: najete storitve | C53: EUR/ha | D53: 443.05606 | E53: 461.29681 | F53: 104.11703 | H53: 503.64448 | I53: 482.47065 | J53: 461.29681 | K53: 440.12297 | L53: 418.94914 | M53: 461.29681 | P53: 109.18014 | Q53: 104.59007 | R53: 100 | S53: 95.409932 | T53: 90.819865 | U53: 100
A54: Ječmen tržni | B54: zavarovanje | C54: EUR/ha | D54: 16.10532 | E54: 12.07899 | F54: 75 | H54: 13.17708 | I54: 13.17708 | J54: 12.07899 | K54: 10.9809 | L54: 9.88281 | M54: 12.07899 | P54: 109.09091 | Q54: 109.09091 | R54: 100 | S54: 90.909091 | T54: 81.818182 | U54: 100
A55: Ječmen tržni | B55: domače strojne storitve | C55: EUR/ha | D55: 355.18039 | E55: 379.0854 | F55: 106.73038 | H55: 421.23338 | I55: 400.41178 | J55: 379.0854 | K55: 374.65558 | L55: 345.89409 | M55: 284.92479 | P55: 111.11833 | Q55: 105.62574 | R55: 100 | S55: 98.831444 | T55: 91.244371 | U55: 75.161109
A56: Ječmen tržni | B56: Amortizacija | C56: EUR/ha | D56: 0 | E56: 0 | H56: 0 | I56: 0 | J56: 0 | K56: 0 | L56: 0 | M56: 0
A57: Ječmen tržni | B57: Stroški domačega dela in kapitala | C57: EUR/ha | D57: 394.55476 | E57: 422.61295 | F57: 107.11135 | H57: 473.7252 | I57: 448.09581 | J57: 422.61295 | K57: 410.29743 | L57: 381.94065 | M57: 299.42554 | P57: 112.09434 | Q57: 106.02983 | R57: 100 | S57: 97.085863 | T57: 90.375994 | U57: 70.851008
A58: Ječmen tržni | B58: Od tega: domače delo neto | C58: EUR/ha | D58: 169.96915 | E58: 183.39671 | F58: 107.9 | H58: 210.21512 | I58: 196.85893 | J58: 183.39671 | K58: 176.87474 | L58: 162.40513 | M58: 117.36419 | P58: 114.62317 | Q58: 107.34049 | R58: 100 | S58: 96.443791 | T58: 88.554004 | U58: 63.994705
A59: Ječmen tržni | B59: Stroški skupaj | C59: EUR/ha | D59: 1953.012 | E59: 2046.7235 | F59: 104.7983 | H59: 2275.156 | I59: 2162.8462 | J59: 2046.7235 | K59: 1961.118 | L59: 1834.6204 | M59: 1825.0617 | P59: 111.16089 | Q59: 105.67359 | R59: 100 | S59: 95.817439 | T59: 89.636946 | U59: 89.169919
A60: Ječmen tržni | B60: Stranski pridelki | C60: EUR/ha | D60: 309.80438 | E60: 325.47875 | F60: 105.05944 | H60: 390.91569 | I60: 363.115 | J60: 325.47875 | K60: 297.67806 | L60: 269.87736 | M60: 334.56311 | P60: 120.10483 | Q60: 111.56335 | R60: 100 | S60: 91.458522 | T60: 82.917044 | U60: 102.79108 | X60: Slika 1: Cenovne meje doseganja paritetnega dohodka - JEČMEN - tržni,
A61: Ječmen tržni | B61: Stroški glavnega pridelka | C61: EUR/ha | D61: 1643.2076 | E61: 1721.2447 | F61: 104.74907 | H61: 1884.2403 | I61: 1799.7312 | J61: 1721.2447 | K61: 1663.4399 | L61: 1564.743 | M61: 1490.4985 | P61: 109.46964 | Q61: 104.55987 | R61: 100 | S61: 96.641688 | T61: 90.907646 | U61: 86.594226 | X61: 2026, začasna oktobrska ocena, upoštevani stroški zmanjšani za subvencije
A62: Ječmen tržni | B62: Subvencije | C62: EUR/ha | D62: 202.78 | E62: 202.78 | F62: 100 | H62: 202.78 | I62: 202.78 | J62: 202.78 | K62: 202.78 | L62: 202.78 | M62: 202.78 | P62: 100 | Q62: 100 | R62: 100 | S62: 100 | T62: 100 | U62: 100
A63: Ječmen tržni | B63: Stroški, zmanjšani za subvencije | C63: EUR/ha | D63: 1440.4276 | E63: 1518.4647 | F63: 105.41763 | H63: 1681.4603 | I63: 1596.9512 | J63: 1518.4647 | K63: 1460.6599 | L63: 1361.963 | M63: 1287.7185 | P63: 110.73424 | Q63: 105.16881 | R63: 100 | S63: 96.19321 | T63: 89.693427 | U63: 84.803982
A64: Ječmen tržni | B64: Stroški, zmanjšani za subvencije/kg | C64: EUR/kg | D64: 0.26189593 | E64: 0.27608449 | F64: 105.41763 | H64: 0.2586862 | I64: 0.26615854 | J64: 0.27608449 | K64: 0.29213199 | L64: 0.30265845 | M64: 0.23413064 | P64: 93.698202 | Q64: 96.40474 | R64: 100 | S64: 105.81253 | T64: 109.6253 | U64: 84.803982
A65: Ječmen tržni | B65: Prodajna cena | C65: EUR/kg | D65: 0.156 | E65: 0.165 | F65: 105.76923 | H65: 0.165 | I65: 0.165 | J65: 0.165 | K65: 0.165 | L65: 0.165 | M65: 0.165 | P65: 100 | Q65: 100 | R65: 100 | S65: 100 | T65: 100 | U65: 100
A66: Ječmen tržni | B66: Vrednost proizvodnje skupaj | C66: EUR/ha | D66: 1370.5844 | E66: 1435.7588 | F66: 104.75523 | H66: 1666.1957 | I66: 1555.895 | J66: 1435.7588 | K66: 1325.4581 | L66: 1215.1574 | M66: 1444.8431 | P66: 116.04984 | Q66: 108.36744 | R66: 100 | S66: 92.317602 | T66: 84.635205 | U66: 100.63272
A67: Ječmen tržni | B67: Od tega interna realizacija | C67: EUR/ha | D67: 0 | E67: 0 | H67: 0 | I67: 0 | J67: 0 | K67: 0 | L67: 0 | M67: 0
A68: Ječmen tržni | B68: OBRAČUN DOHODKA
A69: Ječmen tržni | B69: Vrednost finalne proizvodnje skupaj | C69: EUR/ha | D69: 1370.5844 | E69: 1435.7588 | F69: 104.75523 | H69: 1666.1957 | I69: 1555.895 | J69: 1435.7588 | K69: 1325.4581 | L69: 1215.1574 | M69: 1444.8431 | P69: 116.04984 | Q69: 108.36744 | R69: 100 | S69: 92.317602 | T69: 84.635205 | U69: 100.63272
A70: Ječmen tržni | B70: Stroški zmanjšani za interno realizacijo | C70: EUR/ha | D70: 1953.012 | E70: 2046.7235 | F70: 104.7983 | H70: 2275.156 | I70: 2162.8462 | J70: 2046.7235 | K70: 1961.118 | L70: 1834.6204 | M70: 1825.0617 | P70: 111.16089 | Q70: 105.67359 | R70: 100 | S70: 95.817439 | T70: 89.636946 | U70: 89.169919
A71: Ječmen tržni | B71: Stroški kupljenega blaga in storitev | C71: EUR/ha | D71: 1369.3031 | E71: 1430.643 | F71: 104.47964 | H71: 1586.134 | I71: 1510.3801 | J71: 1430.643 | K71: 1360.1157 | L71: 1275.1408 | M71: 1377.9052 | P71: 110.86861 | Q71: 105.57352 | R71: 100 | S71: 95.070238 | T71: 89.13061 | U71: 96.313703
A72: Ječmen tržni | B72: Amortizacija | C72: EUR/ha | D72: 141.30243 | E72: 142.33674 | F72: 100.73198 | H72: 157.84311 | I72: 150.10037 | J72: 142.33674 | K72: 140.36415 | L72: 130.98363 | M72: 116.03906 | P72: 110.89414 | Q72: 105.45441 | R72: 100 | S72: 98.614138 | T72: 92.023765 | U72: 81.524321
A73: Ječmen tržni | B73: Stroški domačega dela in kapitala | C73: EUR/ha | D73: 442.40646 | E73: 473.74375 | F73: 107.08337 | H73: 531.17893 | I73: 502.36575 | J73: 473.74375 | K73: 460.63817 | L73: 428.49597 | M73: 331.11736 | P73: 112.12368 | Q73: 106.04166 | R73: 100 | S73: 97.233615 | T73: 90.448891 | U73: 69.893769
A74: Ječmen tržni | B74: Bruto dodana vrednost | C74: EUR/ha | D74: 1.2812456 | E74: 5.1157824 | F74: 399.28195 | H74: 80.06171 | I74: 45.514904 | J74: 5.1157824 | K74: -34.657615 | L74: -59.983443 | M74: 66.937888
A75: Ječmen tržni | B75: Neto dodana vrednost | C75: EUR/ha | D75: -140.02118 | E75: -137.22096 | F75: 98.000141 | H75: -77.781398 | I75: -104.58547 | J75: -137.22096 | K75: -175.02177 | L75: -190.96707 | M75: -49.101174
A76: Ječmen tržni | B76: Neto dodana vrednost/uro | C76: EUR/uro | D76: -6.5970305 | E76: -6.4770994 | F76: 98.182044 | H76: -3.2111812 | I76: -4.6056761 | J76: -6.4770994 | K76: -8.5430828 | L76: -10.142332 | M76: -3.6363742 | X76: Slika 2: Kazalniki modelne ocene dohodka - JEČMEN - tržni,
A77: Ječmen tržni | B77: * začasna oktobrska ocena | D77: 0.014188558 | E77: 0 | H77: 0 | I77: 0 | J77: 0 | K77: 0 | L77: 0 | M77: 0 | X77: 2026, začasna oktobrska ocena
A78: Oljna ogrščica | B78: KMETIJSKI INŠTITUT SLOVENIJE
A79: Oljna ogrščica | B79: Oddelek za ekonomiko kmetijstva | D79: oljrep | E79: oljrep | H79: oljrepB | I79: oljrepA | J79: oljrepC | K79: oljrepD | L79: oljrepE | M79: oljrepF
A80: Oljna ogrščica | B80: Oljna ogrščica | D80: 2025 | E80: 2026* | F80: Indeks 2026*/25 | J80: 2026* | R80: Indeks: M 2 = 100
A81: Oljna ogrščica | B81: Model | C81: Enota | H81: M 1 | I81: M 2 | J81: M 3 | K81: M 4 | L81: M 5 | M81: M 6 | P81: M 1 | Q81: M 2 | R81: M 3 | S81: M 4 | T81: M 5 | U81: M 6
A82: Oljna ogrščica | B82: Intenzivnost pridelave | C82: Kg/ha | D82: 3500 | E82: 3500 | H82: 4000 | I82: 3500 | J82: 3000 | K82: 2500 | L82: 3000 | M82: 3500 | P82: 114.28571 | Q82: 100 | R82: 85.714286 | S82: 71.428571 | T82: 85.714286 | U82: 100
A83: Oljna ogrščica
A84: Oljna ogrščica
A85: Oljna ogrščica | B85: Velikost poljine | C85: ha | D85: 1 | E85: 1 | F85: 100 | H85: 1 | I85: 1 | J85: 1 | K85: 1 | L85: 5 | M85: 5 | P85: 100 | Q85: 100 | R85: 100 | S85: 100 | T85: 500 | U85: 500
A86: Oljna ogrščica | B86: IZVLEČEK ANALITIČNE KALKULACIJE
A87: Oljna ogrščica | B87: Stroški blaga in storitev | C87: EUR/ha | D87: 1643.1644 | E87: 1678.7126 | F87: 102.1634 | H87: 1809.4883 | I87: 1678.7126 | J87: 1537.3088 | K87: 1386.2531 | L87: 1469.5066 | M87: 1609.1548 | P87: 107.79024 | Q87: 100 | R87: 91.576654 | S87: 82.578346 | T87: 87.537715 | U87: 95.856477
A88: Oljna ogrščica | B88: Od tega: seme | C88: EUR/ha | D88: 105.51 | E88: 105.51 | F88: 100 | H88: 105.51 | I88: 105.51 | J88: 105.51 | K88: 105.51 | L88: 105.51 | M88: 105.51 | P88: 100 | Q88: 100 | R88: 100 | S88: 100 | T88: 100 | U88: 100
A89: Oljna ogrščica | B89: gnojila | C89: EUR/ha | D89: 635.66271 | E89: 656.26313 | F89: 103.24078 | H89: 762.92919 | I89: 656.26313 | J89: 550.09627 | K89: 444.08806 | L89: 550.09627 | M89: 656.26313 | P89: 116.25355 | Q89: 100 | R89: 83.822516 | S89: 67.669207 | T89: 83.822516 | U89: 100
A90: Oljna ogrščica | B90: sredstva za varstvo | C90: EUR/ha | D90: 152.71338 | E90: 152.92758 | F90: 100.14026 | H90: 152.92758 | I90: 152.92758 | J90: 152.92758 | K90: 152.92758 | L90: 152.92758 | M90: 152.92758 | P90: 100 | Q90: 100 | R90: 100 | S90: 100 | T90: 100 | U90: 100
A91: Oljna ogrščica | B91: najete storitve | C91: EUR/ha | D91: 369.75634 | E91: 369.70966 | F91: 99.987376 | H91: 388.16818 | I91: 369.70966 | J91: 351.25114 | K91: 332.79261 | L91: 351.25114 | M91: 369.70966 | P91: 104.99271 | Q91: 100 | R91: 95.007292 | S91: 90.014585 | T91: 95.007292 | U91: 100
A92: Oljna ogrščica | B92: zavarovanje | C92: EUR/ha | D92: 32.13 | E92: 24.0975 | F92: 75 | H92: 24.0975 | I92: 24.0975 | J92: 24.0975 | K92: 20.08125 | L92: 24.0975 | M92: 24.0975 | P92: 100 | Q92: 100 | R92: 100 | S92: 83.333333 | T92: 100 | U92: 100
A93: Oljna ogrščica | B93: domače strojne storitve | C93: EUR/ha | D93: 319.04792 | E93: 340.47967 | F93: 106.71741 | H93: 342.33546 | I93: 340.47967 | J93: 327.81025 | K93: 309.46897 | L93: 261.46869 | M93: 272.43346 | P93: 100.54505 | Q93: 100 | R93: 96.278948 | S93: 90.892055 | T93: 76.794215 | U93: 80.014605
A94: Oljna ogrščica | B94: Amortizacija | C94: EUR/ha | D94: 0 | E94: 0 | H94: 0 | I94: 0 | J94: 0 | K94: 0 | L94: 0 | M94: 0
A95: Oljna ogrščica | B95: Stroški domačega dela in kapitala | C95: EUR/ha | D95: 285.34318 | E95: 304.45547 | F95: 106.698 | H95: 306.23434 | I95: 304.45547 | J95: 293.03854 | K95: 277.63287 | L95: 246.97203 | M95: 256.86998 | P95: 100.58428 | Q95: 100 | R95: 96.250049 | S95: 91.189976 | T95: 81.119262 | U95: 84.370295
A96: Oljna ogrščica | B96: Od tega: domače delo neto | C96: EUR/ha | D96: 111.34364 | E96: 120.13979 | F96: 107.9 | H96: 120.98986 | I96: 120.13979 | J96: 114.33638 | K96: 106.60917 | L96: 91.978212 | M96: 97.000779 | P96: 100.70757 | Q96: 100 | R96: 95.169455 | S96: 88.737603 | T96: 76.559324 | U96: 80.739926
A97: Oljna ogrščica | B97: Stroški skupaj | C97: EUR/ha | D97: 1928.5076 | E97: 1983.1681 | F97: 102.83434 | H97: 2115.7227 | I97: 1983.1681 | J97: 1830.3474 | K97: 1663.886 | L97: 1716.4787 | M97: 1866.0247 | P97: 106.68398 | Q97: 100 | R97: 92.294112 | S97: 83.900401 | T97: 86.552356 | U97: 94.093121
A98: Oljna ogrščica | B98: Stranski pridelki | C98: EUR/ha | D98: 0 | E98: 0 | H98: 0 | I98: 0 | J98: 0 | K98: 0 | L98: 0 | M98: 0 | X98: Slika 1: Cenovne meje doseganja paritetnega dohodka - OLJNA OGRŠČICA,
A99: Oljna ogrščica | B99: Stroški glavnega pridelka | C99: EUR/ha | D99: 1928.5076 | E99: 1983.1681 | F99: 102.83434 | H99: 2115.7227 | I99: 1983.1681 | J99: 1830.3474 | K99: 1663.886 | L99: 1716.4787 | M99: 1866.0247 | P99: 106.68398 | Q99: 100 | R99: 92.294112 | S99: 83.900401 | T99: 86.552356 | U99: 94.093121 | X99: 2026, začasna oktobrska ocena, upoštevani stroški zmanjšani za subvencije
A100: Oljna ogrščica | B100: Subvencije | C100: EUR/ha | D100: 202.78 | E100: 202.78 | F100: 100 | H100: 202.78 | I100: 202.78 | J100: 202.78 | K100: 202.78 | L100: 202.78 | M100: 202.78 | P100: 100 | Q100: 100 | R100: 100 | S100: 100 | T100: 100 | U100: 100
...

Sheet PODATKI grafi
O35: KONTROLA | Q35: BRUTO DODANA VREDNOST
O37: =+#REF! -> #REF! | Q37: =Q88-'2026'!H36 -> -178.84 | R37: =R88-'2026'!I36 -> -178.84 | S37: =S88-'2026'!J36 -> -178.84 | T37: =T88-'2026'!K36 -> -178.84 | U37: =U88-'2026'!L36 -> -178.84 | V37: =V88-'2026'!M36 -> -178.84
O38: =#REF! -> #REF! | Q38: ='2026'!H74-Q125 -> 178.84 | R38: ='2026'!I74-R125 -> 178.84 | S38: ='2026'!J74-S125 -> 178.84 | T38: ='2026'!K74-T125 -> 178.84 | U38: ='2026'!L74-U125 -> 178.84 | V38: ='2026'!M74-V125 -> 178.84
O39: =#REF! -> #REF! | Q39: ='2026'!H112-Q162 -> 178.84 | R39: ='2026'!I112-R162 -> 178.84 | S39: ='2026'!J112-S162 -> 178.84 | T39: ='2026'!K112-T162 -> 178.84 | U39: ='2026'!L112-U162 -> 178.84 | V39: ='2026'!M112-V162 -> 178.84
O40: =#REF! -> #REF! | Q40: ='2026'!#REF!-Q199 -> #REF! | R40: ='2026'!#REF!-R199 -> #REF! | S40: ='2026'!#REF!-S199 -> #REF! | T40: ='2026'!#REF!-T199 -> #REF! | U40: ='2026'!#REF!-U199 -> #REF! | V40: ='2026'!#REF!-V199 -> #REF!
O41: =#REF! -> #REF! | Q41: ='2026'!#REF!-Q236 -> #REF! | R41: ='2026'!#REF!-R236 -> #REF! | S41: ='2026'!#REF!-S236 -> #REF! | T41: ='2026'!#REF!-T236 -> #REF! | U41: ='2026'!#REF!-U236 -> #REF! | V41: ='2026'!#REF!-V236 -> #REF!
O42: =#REF! -> #REF! | Q42: ='2026'!#REF!-Q273 -> #REF! | R42: ='2026'!#REF!-R273 -> #REF! | S42: ='2026'!#REF!-S273 -> #REF! | T42: ='2026'!#REF!-T273 -> #REF! | U42: ='2026'!#REF!-U273 -> #REF! | V42: ='2026'!#REF!-V273 -> #REF!
O43: =#REF! -> #REF! | Q43: ='2026'!#REF!-Q310 -> #REF! | R43: ='2026'!#REF!-R310 -> #REF! | S43: ='2026'!#REF!-S310 -> #REF! | T43: ='2026'!#REF!-T310 -> #REF! | U43: ='2026'!#REF!-U310 -> #REF! | V43: ='2026'!#REF!-V310 -> #REF!
O44: =#REF! -> #REF! | Q44: ='2026'!#REF!-Q347 -> #REF! | R44: ='2026'!#REF!-R347 -> #REF! | S44: ='2026'!#REF!-S347 -> #REF! | T44: ='2026'!#REF!-T347 -> #REF!
O45: =#REF! -> #REF! | Q45: ='2026'!#REF!-Q384 -> #REF! | R45: ='2026'!#REF!-R384 -> #REF! | S45: ='2026'!#REF!-S384 -> #REF! | T45: ='2026'!#REF!-T384 -> #REF! | U45: ='2026'!#REF!-U384 -> #REF! | V45: ='2026'!#REF!-V384 -> #REF!
O46: =#REF! -> #REF! | Q46: ='2026'!#REF!-Q421 -> #REF! | R46: ='2026'!#REF!-R421 -> #REF! | S46: ='2026'!#REF!-S421 -> #REF! | T46: ='2026'!#REF!-T421 -> #REF! | U46: ='2026'!#REF!-U421 -> #REF! | V46: ='2026'!#REF!-V421 -> #REF!
A50: reg+prem+dod1 | B50: reg+prem+dod5 | C50: reg+prem+dod3 | D50: reg+prem+dod4 | O50: ='2026'!#REF! -> #REF! | AD50: GRAFI TU LE ZA ANALIZO, IZPIS NA leto!
F51: 1 | G51: =+F51+1 -> 2 | H51: =+G51+1 -> 3 | I51: =+H51+1 -> 4 | J51: =+I51+1 -> 5 | K51: =+J51+1 -> 6 | L51: =+K51+1 -> 7 | M51: =+L51+1 -> 8 | N51: =+M51+1 -> 9 | O51: =+N51+1 -> 10
Q52: EKONOMSKI KAZALCI PRI RAZLIČNI INTENZIVNOSTI IN VELIKOSTI PARCELE
H54: =1 -> 1 | I54: =+J56 -> Pšenica | J54: KMETIJSKI INŠTITUT SLOVENIJE | O54: =+O62-O74+O67-'2026'!E26 -> 0.029806667 | Q54: =+Q62-Q74+Q67-'2026'!H26 -> 0.025548571 | R54: =+R62-R74+R67-'2026'!I26 -> 0.027513846 | S54: =+S62-S74+S67-'2026'!J26 -> 0.029806667 | T54: =+T62-T74+T67-'2026'!K26 -> 0.032516364 | U54: =+U62-U74+U67-'2026'!L26 -> 0.035768 | V54: =+V62-V74+V67-'2026'!M26 -> 0.029806667
H55: =H54+1 -> 2 | I55: =+I54 -> Pšenica | J55: Oddelek za ekonomiko kmetijstva | O55: =#REF! -> #REF! | Q55: =#REF! -> #REF! | R55: =#REF! -> #REF! | S55: =#REF! -> #REF! | T55: =#REF! -> #REF! | U55: =#REF! -> #REF! | V55: =#REF! -> #REF!
F56: =#REF! -> #REF! | H56: =H55+1 -> 3 | I56: =+I55 -> Pšenica | J56: Pšenica | K56: Enota | O56: =+O50 -> #REF! | S56: =+O56 -> #REF! | X56: Indeks: M 3 =100
H57: =H56+1 -> 4 | I57: =+I56 -> Pšenica | J57: Model | Q57: M 1 | R57: M 2 | S57: M 3 | T57: M 4 | U57: M5 | V57: M6 | X57: M 1 | Y57: M 3 | Z57: M 4 | AA57: M5 | AB57: M6
A58: Prid (neto za LC v analitični) | H58: =H57+1 -> 5 | I58: =+I56 -> Pšenica | J58: Intenzivnost pridelave | K58: Kg/ha | M58: =O58-#REF! -> #REF! | O58: 6000 | Q58: 7000 | R58: 6500 | S58: 6000 | T58: 5500 | U58: 5000 | V58: 6000 | X58: =Q58/$S58*100 -> 116.66667 | Y58: =R58/$S58*100 -> 108.33333 | Z58: =T58/$S58*100 -> 91.666667 | AA58: =U58/$S58*100 -> 83.333333 | AB58: =V58/$S58*100 -> 100
A59: str1_kg | H59: =H58+1 -> 6 | I59: =+I56 -> Pšenica | J59: Stranski pridelki | K59: Kg/ha | O59: 3000 | Q59: 3500 | R59: 3250 | S59: 3000 | T59: 2750 | U59: 2500 | V59: 3000 | X59: =Q59/$S59*100 -> 116.66667 | Y59: =R59/$S59*100 -> 108.33333 | Z59: =T59/$S59*100 -> 91.666667 | AA59: =U59/$S59*100 -> 83.333333 | AB59: =V59/$S59*100 -> 100
A60: vel parcele | H60: =H59+1 -> 7 | I60: =+I57 -> Pšenica | J60: Velikost parcele | K60: ha | O60: 1 | Q60: 1 | R60: 1 | S60: 1 | T60: 1 | U60: 1 | V60: 5 | X60: =Q60/$S60*100 -> 100 | Y60: =R60/$S60*100 -> 100 | Z60: =T60/$S60*100 -> 100 | AA60: =U60/$S60*100 -> 100 | AB60: =V60/$S60*100 -> 500
A61: Kupljen material in storitve | H61: =H60+1 -> 8 | I61: =+I58 -> Pšenica | J61: Kupljen material in storitve | K61: EUR/ha | O61: 1569.0872 | Q61: 1769.016 | R61: 1678.8857 | S61: 1569.0872 | T61: 1494.3399 | U61: 1417.6066 | V61: 1539.2879 | X61: =Q61/$S61*100 -> 112.74172 | Y61: =R61/$S61*100 -> 106.9976 | Z61: =T61/$S61*100 -> 95.236256 | AA61: =U61/$S61*100 -> 90.345939 | AB61: =V61/$S61*100 -> 98.100848
A62: STROŠKI SKUPAJ | H62: =H61+1 -> 9 | I62: =+I60 -> Pšenica | J62: Stroški skupaj | K62: EUR/ha | O62: 2175.8263 | Q62: 2427.4843 | R62: 2322.3745 | S62: 2175.8263 | T62: 2079.5821 | U62: 1973.2202 | V62: 2074.9321 | X62: =Q62/$S62*100 -> 111.56609 | Y62: =R62/$S62*100 -> 106.73529 | Z62: =T62/$S62*100 -> 95.576658 | AA62: =U62/$S62*100 -> 90.688313 | AB62: =V62/$S62*100 -> 95.362948
A63: Stranski pridelki | H63: =H62+1 -> 10 | I63: =+I61 -> Pšenica | J63: Stranski pridelki | K63: EUR/ha | O63: 363.115 | Q63: 418.71639 | R63: 390.91569 | S63: 363.115 | T63: 325.47875 | U63: 297.67806 | V63: 363.115 | X63: =Q63/$S63*100 -> 115.31234 | Y63: =R63/$S63*100 -> 107.65617 | Z63: =T63/$S63*100 -> 89.635172 | AA63: =U63/$S63*100 -> 81.979004 | AB63: =V63/$S63*100 -> 100
H64: =H63+1 -> 11 | I64: =+I62 -> Pšenica | J64: Stroški glavnega pridelka | K64: EUR/ha | O64: =+O62-O63 -> 1812.7113 | Q64: =+Q62-Q63 -> 2008.7679 | R64: =+R62-R63 -> 1931.4588 | S64: =+S62-S63 -> 1812.7113 | T64: =+T62-T63 -> 1754.1033 | U64: =+U62-U63 -> 1675.5421 | V64: =+V62-V63 -> 1711.8171 | X64: =Q64/$S64*100 -> 110.81565 | Y64: =R64/$S64*100 -> 106.55082 | Z64: =T64/$S64*100 -> 96.766832 | AA64: =U64/$S64*100 -> 92.432927 | AB64: =V64/$S64*100 -> 94.434072
A65: reg+prem+dod1 | B65: reg+prem+dod5 | C65: reg+prem+dod3 | D65: reg+prem+dod4 | E65: reg+prem+dod5 | H65: =H64+1 -> 12 | I65: =+I63 -> Pšenica | J65: Subvencije | K65: EUR/ha | O65: 23.94 | Q65: 23.94 | R65: 23.94 | S65: 23.94 | T65: 23.94 | U65: 23.94 | V65: 23.94 | X65: =Q65/$S65*100 -> 100 | Y65: =R65/$S65*100 -> 100 | Z65: =T65/$S65*100 -> 100 | AA65: =U65/$S65*100 -> 100 | AB65: =V65/$S65*100 -> 100
H66: =H65+1 -> 13 | I66: =+I64 -> Pšenica | J66: Stroški, zmanjšani za subvencije | K66: EUR/ha | O66: =+O64-O65 -> 1788.7713 | Q66: =+Q64-Q65 -> 1984.8279 | R66: =+R64-R65 -> 1907.5188 | S66: =+S64-S65 -> 1788.7713 | T66: =+T64-T65 -> 1730.1633 | U66: =+U64-U65 -> 1651.6021 | V66: =+V64-V65 -> 1687.8771 | X66: =Q66/$S66*100 -> 110.9604 | Y66: =R66/$S66*100 -> 106.63849 | Z66: =T66/$S66*100 -> 96.723561 | AA66: =U66/$S66*100 -> 92.331653 | AB66: =V66/$S66*100 -> 94.359581
H67: =H66+1 -> 14 | I67: =+I65 -> Pšenica | J67: Stroški, zmanjšani za subvencije/kg | K67: EUR/kg | O67: =+O66/O58 -> 0.29812855 | Q67: =+Q66/Q58 -> 0.28354684 | R67: =+R66/R58 -> 0.29346443 | S67: =+S66/S58 -> 0.29812855 | T67: =+T66/T58 -> 0.31457515 | U67: =+U66/U58 -> 0.33032043 | V67: =+V66/V58 -> 0.28131285 | X67: =Q67/$S67*100 -> 95.108917 | Y67: =R67/$S67*100 -> 98.435531 | Z67: =T67/$S67*100 -> 105.51661 | AA67: =U67/$S67*100 -> 110.79798 | AB67: =V67/$S67*100 -> 94.359581
A68: davek_a | H68: =H67+1 -> 15 | J68: =+A68 -> davek_a | O68: 23.368255 | Q68: 20.597903 | R68: 21.486056 | S68: 23.368255 | T68: 24.545203 | U68: 26.145304 | V68: 26.210997 | X68: =Q68/$S68*100 -> 88.144808 | Y68: =R68/$S68*100 -> 91.94549 | Z68: =T68/$S68*100 -> 105.03653 | AA68: =U68/$S68*100 -> 111.88385 | AB68: =V68/$S68*100 -> 112.16498
A69: Pokoj obvezno | H69: =H68+1 -> 16 | J69: =+A69 -> Pokoj obvezno | O69: 35.501742 | Q69: 39.202761 | R69: 38.041857 | S69: 35.501742 | T69: 33.937593 | U69: 31.795289 | V69: 31.530555 | X69: =Q69/$S69*100 -> 110.42489 | Y69: =R69/$S69*100 -> 107.1549 | Z69: =T69/$S69*100 -> 95.594163 | AA69: =U69/$S69*100 -> 89.559799 | AB69: =V69/$S69*100 -> 88.814108
A70: Zdrav obvezno | H70: =H69+1 -> 17 | J70: =+A70 -> Zdrav obvezno | O70: 20.820054 | Q70: 22.990522 | R70: 22.309708 | S70: 20.820054 | T70: 19.902756 | U70: 18.646398 | V70: 18.491145 | X70: =Q70/$S70*100 -> 110.42489 | Y70: =R70/$S70*100 -> 107.1549 | Z70: =T70/$S70*100 -> 95.594163 | AA70: =U70/$S70*100 -> 89.559799 | AB70: =V70/$S70*100 -> 88.814108 | AF70: Slika 1: Cenovne meje doseganja paritetnega dohodka - PŠENICA,
A71: Pokoj dodatno | H71: =H70+1 -> 18 | J71: =+A71 -> Pokoj dodatno | O71: 28.343812 | Q71: 31.298624 | R71: 30.371784 | S71: 28.343812 | T71: 27.09503 | U71: 25.384661 | V71: 25.173304 | X71: =Q71/$S71*100 -> 110.42489 | Y71: =R71/$S71*100 -> 107.1549 | Z71: =T71/$S71*100 -> 95.594163 | AA71: =U71/$S71*100 -> 89.559799 | AB71: =V71/$S71*100 -> 88.814108 | AF71: ="letina "&M52&", upoštevani stroški zmanjšani za subvencije" -> letina , upoštevani stroški zmanjšani za subvencije
A72: Zdrav dodatno | H72: =H71+1 -> 19 | J72: =+A72 -> Zdrav dodatno | O72: 16.622274 | Q72: 18.355129 | R72: 17.811582 | S72: 16.622274 | T72: 15.889924 | U72: 14.886875 | V72: 14.762925 | X72: =Q72/$S72*100 -> 110.42489 | Y72: =R72/$S72*100 -> 107.1549 | Z72: =T72/$S72*100 -> 95.594163 | AA72: =U72/$S72*100 -> 89.559799 | AB72: =V72/$S72*100 -> 88.814108
A73: Regresi | H73: =H72+1 -> 20 | J73: =+A73 -> Regresi | O73: 85.187395 | Q73: 94.06809 | R73: 91.28247 | S73: 85.187395 | T73: 81.434177 | U73: 76.293659 | V73: 75.658425 | X73: =Q73/$S73*100 -> 110.42489 | Y73: =R73/$S73*100 -> 107.1549 | Z73: =T73/$S73*100 -> 95.594163 | AA73: =U73/$S73*100 -> 89.559799 | AB73: =V73/$S73*100 -> 88.814108
A74: SUM element | H74: =H73+1 -> 21 | J74: =+A74 -> SUM element | O74: 2175.8263 | Q74: 2427.4843 | R74: 2322.3745 | S74: 2175.8263 | T74: 2079.5821 | U74: 1973.2202 | V74: 2074.9321 | X74: =Q74/$S74*100 -> 111.56609 | Y74: =R74/$S74*100 -> 106.73529 | Z74: =T74/$S74*100 -> 95.576658 | AA74: =U74/$S74*100 -> 90.688313 | AB74: =V74/$S74*100 -> 95.362948
A75: reg+prem+dod1 | B75: reg+prem+dod5 | C75: reg+prem+dod3 | D75: reg+prem+dod4 | E75: reg+prem+dod5 | H75: =H74+1 -> 22 | J75: Subvencije | O75: 23.94 | Q75: 23.94 | R75: 23.94 | S75: 23.94 | T75: 23.94 | U75: 23.94 | V75: 23.94 | X75: =Q75/$S75*100 -> 100 | Y75: =R75/$S75*100 -> 100 | Z75: =T75/$S75*100 -> 100 | AA75: =U75/$S75*100 -> 100 | AB75: =V75/$S75*100 -> 100
A76: vred glav prid | H76: =H75+1 -> 23 | J76: Vrednost pridelave_tržna | K76: glavni in stranski | O76: 1110 | Q76: 1295 | R76: 1202.5 | S76: 1110 | T76: 1017.5 | U76: 925 | V76: 1110
H77: =H76+1 -> 24 | O77: =+O62-O75-O76 -> 1041.8863 | P77: stroški vsi | Q77: =+Q62-Q75-Q63 -> 1984.8279 | R77: =+R62-R75-R63 -> 1907.5188 | S77: =+S62-S75-S63 -> 1788.7713 | T77: =+T62-T75-T63 -> 1730.1633 | U77: =+U62-U75-U63 -> 1651.6021 | V77: =+V62-V75-V63 -> 1687.8771
H78: =H77+1 -> 25 | O78: =O77-O69-O70 -> 985.56453 | P78: stroški-obv dajatve | Q78: =Q77-Q69-Q70 -> 1922.6346 | R78: =R77-R69-R70 -> 1847.1672 | S78: =S77-S69-S70 -> 1732.4495 | T78: =T77-T69-T70 -> 1676.323 | U78: =U77-U69-U70 -> 1601.1604 | V78: =V77-V69-V70 -> 1637.8554
H79: =H78+1 -> 26 | O79: =O78-O71-O72-O73 -> 855.41105 | P79: stroški-vse dajatve | Q79: =Q78-Q71-Q72-Q73 -> 1778.9128 | R79: =R78-R71-R72-R73 -> 1707.7014 | S79: =S78-S71-S72-S73 -> 1602.296 | T79: =T78-T71-T72-T73 -> 1551.9038 | U79: =U78-U71-U72-U73 -> 1484.5952 | V79: =V78-V71-V72-V73 -> 1522.2608
H80: =H79+1 -> 27
H81: =H80+1 -> 28 | O81: =+O58&";"&O60 -> 6000;1 | Q81: =Q58&";"&Q60 -> 7000;1 | R81: =+R58&";"&R60 -> 6500;1 | S81: =+S58&";"&S60 -> 6000;1 | T81: =+T58&";"&T60 -> 5500;1 | U81: =+U58&";"&U60 -> 5000;1 | V81: =+V58&";"&V60 -> 6000;5
H82: =H81+1 -> 29 | O82: =+O77/O58*1000 -> 173.64772 | P82: Polne dajatve in pravice iz dela | Q82: =+Q77/Q58*1000 -> 283.54684 | R82: =+R77/R58*1000 -> 293.46443 | S82: =+S77/S58*1000 -> 298.12855 | T82: =+T77/T58*1000 -> 314.57515 | U82: =+U77/U58*1000 -> 330.32043 | V82: =+V77/V58*1000 -> 281.31285
H83: =H82+1 -> 30 | O83: =+O82*O78/O77 -> 164.26075 | P83: Minimalne obveznosti iz dela | Q83: =+Q82*Q78/Q77 -> 274.66209 | R83: =+R82*R78/R77 -> 284.17957 | S83: =+S82*S78/S77 -> 288.74159 | T83: =+T82*T78/T77 -> 304.78599 | U83: =+U82*U78/U77 -> 320.23209 | V83: =+V82*V78/V77 -> 272.9759
H84: =H83+1 -> 31 | O84: =+O82*O79/O77 -> 142.56851 | P84: Brez dajatev in pravic iz dela | Q84: =+Q82*Q79/Q77 -> 254.13039 | R84: =+R82*R79/R77 -> 262.72329 | S84: =+S82*S79/S77 -> 267.04934 | T84: =+T82*T79/T77 -> 282.16433 | U84: =+U82*U79/U77 -> 296.91905 | V84: =+V82*V79/V77 -> 253.71013
H85: =H84+1 -> 32 | O85: =+O82-O84 -> 31.079213 | P85: sivo | Q85: =+Q82-Q84 -> 29.416447 | R85: =+R82-R84 -> 30.741139 | S85: =+S82-S84 -> 31.079213 | T85: =+T82-T84 -> 32.410814 | U85: =+U82-U84 -> 33.401377 | V85: =+V82-V84 -> 27.602726
H86: =H85+1 -> 33 | AF86: Slika 2: Kazalniki modelne ocene dohodka - PŠENICA,
A87: Pc | F87: 1000 | H87: =H86+1 -> 34 | J87: Odkupna cena; vir podatkov SURS; preračuni KIS | O87: 185 | P87: =J87 -> Odkupna cena; vir podatkov SURS; preračuni KIS | Q87: 185 | R87: 185 | S87: 185 | T87: 185 | U87: 185 | V87: 185 | AF87: ="letina "&M52 -> letina
H88: =H87+1 -> 35 | J88: Bruto dodana vrednost | O88: =O76+O75+O63-O61 -> -72.032244 | Q88: =Q76+Q75+Q63-Q61 -> -31.359563 | R88: =R76+R75+R63-R61 -> -61.530024 | S88: =S76+S75+S63-S61 -> -72.032244 | T88: =T76+T75+T63-T61 -> -127.42119 | U88: =U76+U75+U63-U61 -> -170.98855 | V88: =V76+V75+V63-V61 -> -42.232888
A89: Amortizacija | H89: =H88+1 -> 36 | J89: Amortizacija | O89: 139.13454 | Q89: 148.91711 | R89: 146.92797 | S89: 139.13454 | T89: 135.29341 | U89: 129.36521 | V89: 115.91356
H90: =H89+1 -> 37 | J90: Neto dodana vrednost | O90: =+O88-O89 -> -211.16679 | Q90: =+Q88-Q89 -> -180.27668 | R90: =+R88-R89 -> -208.45799 | S90: =+S88-S89 -> -211.16679 | T90: =+T88-T89 -> -262.7146 | U90: =+U88-U89 -> -300.35376 | V90: =+V88-V89 -> -158.14645
H91: =1 -> 1 | I91: =+J93 -> Ječmen tržni | J91: KMETIJSKI INŠTITUT SLOVENIJE | O91: =O99-O111+O104-'2026'!E64 -> 0.032516364 | Q91: =Q99-Q111+Q104-'2026'!H64 -> 0.027513846 | R91: =R99-R111+R104-'2026'!I64 -> 0.029806667 | S91: =S99-S111+S104-'2026'!J64 -> 0.032516364 | T91: =T99-T111+T104-'2026'!K64 -> 0.035768 | U91: =U99-U111+U104-'2026'!L64 -> 0.039742222 | V91: =V99-V111+V104-'2026'!M64 -> 0.032516364
H92: =H91+1 -> 2 | I92: =+I91 -> Ječmen tržni | J92: Oddelek za ekonomiko kmetijstva | O92: =#REF! -> #REF! | Q92: =#REF! -> #REF! | R92: =#REF! -> #REF! | S92: =#REF! -> #REF! | T92: =#REF! -> #REF! | U92: =#REF! -> #REF! | V92: =#REF! -> #REF!
F93: =#REF! -> #REF! | H93: =H92+1 -> 3 | I93: =+I92 -> Ječmen tržni | J93: Ječmen tržni | K93: =+K$56 -> Enota | S93: =+$S$56 -> #REF! | X93: Indeks: M 3 =100
H94: =H93+1 -> 4 | I94: =+I93 -> Ječmen tržni | J94: =+J57 -> Model | Q94: M 1 | R94: M 2 | S94: M 3 | T94: M 4 | U94: M5 | V94: M6 | X94: =+Q94 -> M 1 | Y94: =+R94 -> M 2 | Z94: =+T94 -> M 4 | AA94: =+U94 -> M5 | AB94: =+V94 -> M6
A95: Prid (neto za LC v analitični) | H95: =H94+1 -> 5 | I95: =+I94 -> Ječmen tržni | J95: =+J58 -> Intenzivnost pridelave | K95: Kg/ha | O95: 5500 | Q95: 6500 | R95: 6000 | S95: 5500 | T95: 5000 | U95: 4500 | V95: 5500 | X95: =Q95/$S95*100 -> 118.18182 | Y95: =R95/$S95*100 -> 109.09091 | Z95: =T95/$S95*100 -> 90.909091 | AA95: =U95/$S95*100 -> 81.818182 | AB95: =V95/$S95*100 -> 100
A96: str1_kg | H96: =H95+1 -> 6 | J96: =+J59 -> Stranski pridelki | K96: Kg/ha | O96: 2750 | Q96: 3250 | R96: 3000 | S96: 2750 | T96: 2500 | U96: 2250 | V96: 2750 | X96: =Q96/$S96*100 -> 118.18182 | Y96: =R96/$S96*100 -> 109.09091 | Z96: =T96/$S96*100 -> 90.909091 | AA96: =U96/$S96*100 -> 81.818182 | AB96: =V96/$S96*100 -> 100
A97: vel parcele | H97: =H96+1 -> 7 | I97: =+I95 -> Ječmen tržni | J97: =+J60 -> Velikost parcele | K97: ha | O97: 1 | Q97: 1 | R97: 1 | S97: 1 | T97: 1 | U97: 1 | V97: 5 | X97: =Q97/$S97*100 -> 100 | Y97: =R97/$S97*100 -> 100 | Z97: =T97/$S97*100 -> 100 | AA97: =U97/$S97*100 -> 100 | AB97: =V97/$S97*100 -> 500
A98: Kupljen material in storitve | H98: =H97+1 -> 8 | I98: =+I93 -> Ječmen tržni | J98: =+J61 -> Kupljen material in storitve | O98: 1430.643 | Q98: 1586.134 | R98: 1510.3801 | S98: 1430.643 | T98: 1360.1157 | U98: 1275.1408 | V98: 1377.9052 | X98: =Q98/$S98*100 -> 110.86861 | Y98: =R98/$S98*100 -> 105.57352 | Z98: =T98/$S98*100 -> 95.070238 | AA98: =U98/$S98*100 -> 89.13061 | AB98: =V98/$S98*100 -> 96.313703
A99: STROŠKI SKUPAJ | H99: =H98+1 -> 9 | I99: =+I98 -> Ječmen tržni | J99: =+J62 -> Stroški skupaj | K99: =+K$62 -> EUR/ha | O99: 2046.7235 | Q99: 2275.156 | R99: 2162.8462 | S99: 2046.7235 | T99: 1961.118 | U99: 1834.6204 | V99: 1825.0617 | X99: =Q99/$S99*100 -> 111.16089 | Y99: =R99/$S99*100 -> 105.67359 | Z99: =T99/$S99*100 -> 95.817439 | AA99: =U99/$S99*100 -> 89.636946 | AB99: =V99/$S99*100 -> 89.169919
A100: Stranski pridelki | H100: =H99+1 -> 10 | I100: =+I99 -> Ječmen tržni | J100: =+J63 -> Stranski pridelki | K100: =+K$63 -> EUR/ha | O100: 325.47875 | Q100: 390.91569 | R100: 363.115 | S100: 325.47875 | T100: 297.67806 | U100: 269.87736 | V100: 334.56311 | X100: =Q100/$S100*100 -> 120.10483 | Y100: =R100/$S100*100 -> 111.56335 | Z100: =T100/$S100*100 -> 91.458522 | AA100: =U100/$S100*100 -> 82.917044 | AB100: =V100/$S100*100 -> 102.79108
H101: =H100+1 -> 11 | I101: =+I100 -> Ječmen tržni | J101: =+J64 -> Stroški glavnega pridelka | K101: =+K$64 -> EUR/ha | O101: =+O99-O100 -> 1721.2447 | Q101: =+Q99-Q100 -> 1884.2403 | R101: =+R99-R100 -> 1799.7312 | S101: =+S99-S100 -> 1721.2447 | T101: =+T99-T100 -> 1663.4399 | U101: =+U99-U100 -> 1564.743 | V101: =+V99-V100 -> 1490.4985 | X101: =Q101/$S101*100 -> 109.46964 | Y101: =R101/$S101*100 -> 104.55987 | Z101: =T101/$S101*100 -> 96.641688 | AA101: =U101/$S101*100 -> 90.907646 | AB101: =V101/$S101*100 -> 86.594226
A102: reg+prem+dod1 | B102: reg+prem+dod5 | C102: reg+prem+dod3 | D102: reg+prem+dod4 | E102: reg+prem+dod5 | H102: =H101+1 -> 12 | I102: =+I101 -> Ječmen tržni | J102: =+J65 -> Subvencije | K102: =+K$65 -> EUR/ha | O102: 23.94 | Q102: 23.94 | R102: 23.94 | S102: 23.94 | T102: 23.94 | U102: 23.94 | V102: 23.94 | X102: =Q102/$S102*100 -> 100 | Y102: =R102/$S102*100 -> 100 | Z102: =T102/$S102*100 -> 100 | AA102: =U102/$S102*100 -> 100 | AB102: =V102/$S102*100 -> 100
C103: delo | H103: =H102+1 -> 13 | I103: =+I102 -> Ječmen tržni | J103: =+J66 -> Stroški, zmanjšani za subvencije | K103: =+K$66 -> EUR/ha | O103: =+O101-O102 -> 1697.3047 | Q103: =+Q101-Q102 -> 1860.3003 | R103: =+R101-R102 -> 1775.7912 | S103: =+S101-S102 -> 1697.3047 | T103: =+T101-T102 -> 1639.4999 | U103: =+U101-U102 -> 1540.803 | V103: =+V101-V102 -> 1466.5585 | X103: =Q103/$S103*100 -> 109.6032 | Y103: =R103/$S103*100 -> 104.62419 | Z103: =T103/$S103*100 -> 96.59432 | AA103: =U103/$S103*100 -> 90.779401 | AB103: =V103/$S103*100 -> 86.405142
H104: =H103+1 -> 14 | I104: =+I103 -> Ječmen tržni | J104: =+J67 -> Stroški, zmanjšani za subvencije/kg | K104: =+K$67 -> EUR/kg | O104: =+O103/O95 -> 0.30860086 | Q104: =+Q103/Q95 -> 0.28620005 | R104: =+R103/R95 -> 0.2959652 | S104: =+S103/S95 -> 0.30860086 | T104: =+T103/T95 -> 0.32789999 | U104: =+U103/U95 -> 0.34240068 | V104: =+V103/V95 -> 0.26664701 | X104: =Q104/$S104*100 -> 92.741172 | Y104: =R104/$S104*100 -> 95.905503 | Z104: =T104/$S104*100 -> 106.25375 | AA104: =U104/$S104*100 -> 110.9526 | AB104: =V104/$S104*100 -> 86.405142
A105: davek_a | H105: =H104+1 -> 15 | J105: =+J68 -> davek_a | O105: 23.345695 | Q105: 19.56145 | R105: 21.447139 | S105: 23.345695 | T105: 24.243507 | U105: 26.296503 | V105: 32.77967 | X105: =Q105/$S105*100 -> 83.790397 | Y105: =R105/$S105*100 -> 91.867641 | Z105: =T105/$S105*100 -> 103.84573 | AA105: =U105/$S105*100 -> 112.63963 | AB105: =V105/$S105*100 -> 140.40991
A106: Pokoj obvezno | H106: =H105+1 -> 16 | J106: =+J69 -> Pokoj obvezno | O106: 35.609037 | Q106: 40.712828 | R106: 38.167902 | S106: 35.609037 | T106: 34.434817 | U106: 31.647617 | V106: 22.695704 | X106: =Q106/$S106*100 -> 114.33286 | Y106: =R106/$S106*100 -> 107.186 | Z106: =T106/$S106*100 -> 96.702468 | AA106: =U106/$S106*100 -> 88.875241 | AB106: =V106/$S106*100 -> 63.735798
A107: Zdrav obvezno | H107: =H106+1 -> 17 | J107: =+J70 -> Zdrav obvezno | O107: 20.882977 | Q107: 23.876104 | R107: 22.383628 | S107: 20.882977 | T107: 20.194354 | U107: 18.559796 | V107: 13.309932 | X107: =Q107/$S107*100 -> 114.33286 | Y107: =R107/$S107*100 -> 107.186 | Z107: =T107/$S107*100 -> 96.702468 | AA107: =U107/$S107*100 -> 88.875241 | AB107: =V107/$S107*100 -> 63.735798
A108: Pokoj dodatno | H108: =H107+1 -> 18 | J108: =+J71 -> Pokoj dodatno | O108: 28.429474 | Q108: 32.504229 | R108: 30.472416 | S108: 28.429474 | T108: 27.492003 | U108: 25.266763 | V108: 18.119752 | X108: =Q108/$S108*100 -> 114.33286 | Y108: =R108/$S108*100 -> 107.186 | Z108: =T108/$S108*100 -> 96.702468 | AA108: =U108/$S108*100 -> 88.875241 | AB108: =V108/$S108*100 -> 63.735798 | AF108: Slika 1: Cenovne meje doseganja paritetnega dohodka - JEČMEN - tržni,
A109: Zdrav dodatno | H109: =H108+1 -> 19 | J109: =+J72 -> Zdrav dodatno | O109: 16.672511 | Q109: 19.062158 | R109: 17.870597 | S109: 16.672511 | T109: 16.122729 | U109: 14.817734 | V109: 10.626358 | X109: =Q109/$S109*100 -> 114.33286 | Y109: =R109/$S109*100 -> 107.186 | Z109: =T109/$S109*100 -> 96.702468 | AA109: =U109/$S109*100 -> 88.875241 | AB109: =V109/$S109*100 -> 63.735798 | AF109: ="letina "&M90&", upoštevani stroški zmanjšani za subvencije" -> letina , upoštevani stroški zmanjšani za subvencije
A110: Regresi | H110: =H109+1 -> 20 | J110: =+J73 -> Regresi | O110: 85.444852 | Q110: 97.691538 | R110: 91.584918 | S110: 85.444852 | T110: 82.62728 | U110: 75.939318 | V110: 54.458958 | X110: =Q110/$S110*100 -> 114.33286 | Y110: =R110/$S110*100 -> 107.186 | Z110: =T110/$S110*100 -> 96.702468 | AA110: =U110/$S110*100 -> 88.875241 | AB110: =V110/$S110*100 -> 63.735798
A111: SUM element | H111: =H110+1 -> 21 | J111: =+J74 -> SUM element | O111: 2046.7235 | Q111: 2275.156 | R111: 2162.8462 | S111: 2046.7235 | T111: 1961.118 | U111: 1834.6204 | V111: 1825.0617 | X111: =Q111/$S111*100 -> 111.16089 | Y111: =R111/$S111*100 -> 105.67359 | Z111: =T111/$S111*100 -> 95.817439 | AA111: =U111/$S111*100 -> 89.636946 | AB111: =V111/$S111*100 -> 89.169919
A112: reg+prem+dod1 | B112: reg+prem+dod5 | C112: reg+prem+dod3 | D112: reg+prem+dod4 | E112: reg+prem+dod5 | H112: =H111+1 -> 22 | J112: =+J75 -> Subvencije | O112: 23.94 | Q112: 23.94 | R112: 23.94 | S112: 23.94 | T112: 23.94 | U112: 23.94 | V112: 23.94 | X112: =Q112/$S112*100 -> 100 | Y112: =R112/$S112*100 -> 100 | Z112: =T112/$S112*100 -> 100 | AA112: =U112/$S112*100 -> 100 | AB112: =V112/$S112*100 -> 100
A113: vred glav prid | H113: =H112+1 -> 23 | J113: =+J76 -> Vrednost pridelave_tržna | K113: glavni in stranski | O113: 907.5 | Q113: 1072.5 | R113: 990 | S113: 907.5 | T113: 825 | U113: 742.5 | V113: 907.5 | X113: =Q113/$S113*100 -> 118.18182 | Y113: =R113/$S113*100 -> 109.09091 | Z113: =T113/$S113*100 -> 90.909091 | AA113: =U113/$S113*100 -> 81.818182 | AB113: =V113/$S113*100 -> 100
H114: =H113+1 -> 24 | O114: =+O99-O112-O100 -> 1697.3047 | P114: stroški vsi | Q114: =+Q99-Q112-Q100 -> 1860.3003 | R114: =+R99-R112-R100 -> 1775.7912 | S114: =+S99-S112-S100 -> 1697.3047 | T114: =+T99-T112-T100 -> 1639.4999 | U114: =+U99-U112-U100 -> 1540.803 | V114: =+V99-V112-V100 -> 1466.5585
H115: =H114+1 -> 25 | O115: =O114-O106-O107 -> 1640.8127 | P115: stroški-obv dajatve | Q115: =Q114-Q106-Q107 -> 1795.7114 | R115: =R114-R106-R107 -> 1715.2397 | S115: =S114-S106-S107 -> 1640.8127 | T115: =T114-T106-T107 -> 1584.8708 | U115: =U114-U106-U107 -> 1490.5956 | V115: =V114-V106-V107 -> 1430.5529
H116: =H115+1 -> 26 | O116: =O115-O108-O109-O110 -> 1510.2659 | P116: stroški-vse dajatve | Q116: =Q115-Q108-Q109-Q110 -> 1646.4535 | R116: =R115-R108-R109-R110 -> 1575.3118 | S116: =S115-S108-S109-S110 -> 1510.2659 | T116: =T115-T108-T109-T110 -> 1458.6288 | U116: =U115-U108-U109-U110 -> 1374.5718 | V116: =V115-V108-V109-V110 -> 1347.3478
H117: =H116+1 -> 27
H118: =H117+1 -> 28 | O118: =+O95&";"&O97 -> 5500;1 | Q118: =+Q95&";"&Q97 -> 6500;1 | R118: =+R95&";"&R97 -> 6000;1 | S118: =+S95&";"&S97 -> 5500;1 | T118: =+T95&";"&T97 -> 5000;1 | U118: =+U95&";"&U97 -> 4500;1 | V118: =+V95&";"&V97 -> 5500;5
H119: =H118+1 -> 29 | O119: =+O114/O95*1000 -> 308.60086 | P119: Polne dajatve in pravice iz dela | Q119: =+Q114/Q95*1000 -> 286.20005 | R119: =+R114/R95*1000 -> 295.9652 | S119: =+S114/S95*1000 -> 308.60086 | T119: =+T114/T95*1000 -> 327.89999 | U119: =+U114/U95*1000 -> 342.40068 | V119: =+V114/V95*1000 -> 266.64701
H120: =H119+1 -> 30 | O120: =+O119*O115/O114 -> 298.32958 | P120: Minimalne obveznosti iz dela | Q120: =+Q119*Q115/Q114 -> 276.26329 | R120: =+R119*R115/R114 -> 285.87328 | S120: =+S119*S115/S114 -> 298.32958 | T120: =+T119*T115/T114 -> 316.97415 | U120: =+U119*U115/U114 -> 331.24347 | V120: =+V119*V115/V114 -> 260.10053
H121: =H120+1 -> 31 | O121: =+O119*O116/O114 -> 274.59379 | P121: Brez dajatev in pravic iz dela | Q121: =+Q119*Q116/Q114 -> 253.30053 | R121: =+R119*R116/R114 -> 262.55196 | S121: =+S119*S116/S114 -> 274.59379 | T121: =+T119*T116/T114 -> 291.72575 | U121: =+U119*U116/U114 -> 305.4604 | V121: =+V119*V116/V114 -> 244.97233
H122: =H121+1 -> 32 | O122: =+O119-O121 -> 34.007064 | P122: sivo | Q122: =+Q119-Q121 -> 32.899517 | R122: =+R119-R121 -> 33.413243 | S122: =+S119-S121 -> 34.007064 | T122: =+T119-T121 -> 36.174237 | U122: =+U119-U121 -> 36.940273 | V122: =+V119-V121 -> 21.674673
H123: =H122+1 -> 33
A124: Pc | F124: 1000 | H124: =H123+1 -> 34 | J124: Odkupna cena; vir podatkov SURS; preračuni KIS | O124: 165 | P124: =J124 -> Odkupna cena; vir podatkov SURS; preračuni KIS | Q124: 165 | R124: 165 | S124: 165 | T124: 165 | U124: 165 | V124: 165 | AF124: Slika 2: Kazalniki modelne ocene dohodka - JEČMEN - tržni,
H125: =H124+1 -> 35 | J125: =+J88 -> Bruto dodana vrednost | O125: =O113+O112+O100-O98 -> -173.72422 | Q125: =Q113+Q112+Q100-Q98 -> -98.77829 | R125: =R113+R112+R100-R98 -> -133.3251 | S125: =S113+S112+S100-S98 -> -173.72422 | T125: =T113+T112+T100-T98 -> -213.49762 | U125: =U113+U112+U100-U98 -> -238.82344 | V125: =V113+V112+V100-V98 -> -111.90211 | AF125: ="letina "&M90 -> letina
A126: Amortizacija | H126: =H125+1 -> 36 | J126: Amortizacija | O126: 142.33674 | Q126: 157.84311 | R126: 150.10037 | S126: 142.33674 | T126: 140.36415 | U126: 130.98363 | V126: 116.03906
H127: =H126+1 -> 37 | J127: Neto dodana vrednost | O127: =+O125-O126 -> -316.06096 | Q127: =+Q125-Q126 -> -256.6214 | R127: =+R125-R126 -> -283.42547 | S127: =+S125-S126 -> -316.06096 | T127: =+T125-T126 -> -353.86177 | U127: =+U125-U126 -> -369.80707 | V127: =+V125-V126 -> -227.94117
H128: =1 -> 1 | I128: =+J130 -> Oljna ogrščica | J128: KMETIJSKI INŠTITUT SLOVENIJE | O128: =O136-O148+O141-'2026'!E102 -> 0.051097143 | Q128: =Q136-Q148+Q141-'2026'!H102 -> 0.04471 | R128: =R136-R148+R141-'2026'!I102 -> 0.051097143 | S128: =S136-S148+S141-'2026'!J102 -> 0.059613333 | T128: =T136-T148+T141-'2026'!K102 -> 0.071536 | U128: =U136-U148+U141-'2026'!L102 -> 0.059613333 | V128: =V136-V148+V141-'2026'!M102 -> 0.051097143
H129: =H128+1 -> 2 | I129: =+I128 -> Oljna ogrščica | J129: Oddelek za ekonomiko kmetijstva | O129: =#REF! -> #REF! | Q129: =#REF! -> #REF! | R129: =#REF! -> #REF! | S129: =#REF! -> #REF! | T129: =#REF! -> #REF! | U129: =#REF! -> #REF! | V129: =#REF! -> #REF!
F130: =#REF! -> #REF! | H130: =H129+1 -> 3 | I130: =+I129 -> Oljna ogrščica | J130: Oljna ogrščica | K130: =+K$56 -> Enota | X130: Indeks: M 2 =100
H131: =H130+1 -> 4 | I131: =+I130 -> Oljna ogrščica | J131: =+J94 -> Model | Q131: M 1 | R131: M 2 | S131: M 3 | T131: M 4 | U131: M5 | V131: M6 | X131: =+Q131 -> M 1 | Y131: =+R131 -> M 2 | Z131: =+T131 -> M 4 | AA131: =+U131 -> M5 | AB131: =+V131 -> M6
A132: Prid (neto za LC v analitični) | H132: =H131+1 -> 5 | I132: =+I131 -> Oljna ogrščica | J132: =+J95 -> Intenzivnost pridelave | K132: Kg/ha | O132: 3500 | Q132: 4000 | R132: 3500 | S132: 3000 | T132: 2500 | U132: 3000 | V132: 3500 | X132: =Q132/$S132*100 -> 133.33333 | Y132: =R132/$S132*100 -> 116.66667 | Z132: =T132/$S132*100 -> 83.333333 | AA132: =U132/$S132*100 -> 100 | AB132: =V132/$S132*100 -> 116.66667
A133: str1_kg | H133: =H132+1 -> 6 | J133: =+J96 -> Stranski pridelki | X133: =Q133/$S133*100 -> #DIV/0! | Y133: =R133/$S133*100 -> #DIV/0! | Z133: =T133/$S133*100 -> #DIV/0! | AA133: =U133/$S133*100 -> #DIV/0! | AB133: =V133/$S133*100 -> #DIV/0!
A134: vel parcele | H134: =H133+1 -> 7 | I134: =+I132 -> Oljna ogrščica | J134: =+J97 -> Velikost parcele | K134: ha | O134: 1 | Q134: 1 | R134: 1 | S134: 1 | T134: 1 | U134: 5 | V134: 5 | X134: =Q134/$S134*100 -> 100 | Y134: =R134/$S134*100 -> 100 | Z134: =T134/$S134*100 -> 100 | AA134: =U134/$S134*100 -> 500 | AB134: =V134/$S134*100 -> 500
A135: Kupljen material in storitve | H135: =H134+1 -> 8 | I135: =+I130 -> Oljna ogrščica | J135: =+J98 -> Kupljen material in storitve | O135: 1496.4924 | Q135: 1624.711 | R135: 1496.4924 | S135: 1363.185 | T135: 1222.8983 | U135: 1329.5524 | V135: 1461.9773 | X135: =Q135/$S135*100 -> 119.18492 | Y135: =R135/$S135*100 -> 109.77911 | Z135: =T135/$S135*100 -> 89.708901 | AA135: =U135/$S135*100 -> 97.532794 | AB135: =V135/$S135*100 -> 107.24717
A136: STROŠKI SKUPAJ | H136: =H135+1 -> 9 | I136: =+I135 -> Oljna ogrščica | J136: =+J99 -> Stroški skupaj | K136: =+K$62 -> EUR/ha | O136: 1983.1681 | Q136: 2115.7227 | R136: 1983.1681 | S136: 1830.3474 | T136: 1663.886 | U136: 1716.4787 | V136: 1866.0247 | X136: =Q136/$S136*100 -> 115.59132 | Y136: =R136/$S136*100 -> 108.34927 | Z136: =T136/$S136*100 -> 90.905475 | AA136: =U136/$S136*100 -> 93.778848 | AB136: =V136/$S136*100 -> 101.94921
A137: Stranski pridelki | H137: =H136+1 -> 10 | I137: =+I136 -> Oljna ogrščica | J137: =+J100 -> Stranski pridelki | K137: =+K$63 -> EUR/ha | O137: 0 | Q137: 0 | R137: 0 | S137: 0 | T137: 0 | U137: 0 | V137: 0 | X137: =Q137/$S137*100 -> #DIV/0! | Y137: =R137/$S137*100 -> #DIV/0! | Z137: =T137/$S137*100 -> #DIV/0! | AA137: =U137/$S137*100 -> #DIV/0! | AB137: =V137/$S137*100 -> #DIV/0!
H138: =H137+1 -> 11 | I138: =+I137 -> Oljna ogrščica | J138: =+J101 -> Stroški glavnega pridelka | K138: =+K$64 -> EUR/ha | O138: =+O136-O137 -> 1983.1681 | Q138: =+Q136-Q137 -> 2115.7227 | R138: =+R136-R137 -> 1983.1681 | S138: =+S136-S137 -> 1830.3474 | T138: =+T136-T137 -> 1663.886 | U138: =+U136-U137 -> 1716.4787 | V138: =+V136-V137 -> 1866.0247 | X138: =Q138/$S138*100 -> 115.59132 | Y138: =R138/$S138*100 -> 108.34927 | Z138: =T138/$S138*100 -> 90.905475 | AA138: =U138/$S138*100 -> 93.778848 | AB138: =V138/$S138*100 -> 101.94921
A139: reg+prem+dod1 | B139: reg+prem+dod5 | C139: reg+prem+dod3 | D139: reg+prem+dod4 | E139: reg+prem+dod5 | H139: =H138+1 -> 12 | I139: =+I138 -> Oljna ogrščica | J139: =+J102 -> Subvencije | K139: =+K$65 -> EUR/ha | O139: 23.94 | Q139: 23.94 | R139: 23.94 | S139: 23.94 | T139: 23.94 | U139: 23.94 | V139: 23.94 | X139: =Q139/$S139*100 -> 100 | Y139: =R139/$S139*100 -> 100 | Z139: =T139/$S139*100 -> 100 | AA139: =U139/$S139*100 -> 100 | AB139: =V139/$S139*100 -> 100
...
