Workbook

Sheet 2026
B1: ◄ izbor kalkulacije | H1: EKONOMSKI KAZALCI PRI RAZLIČNI INTENZIVNOSTI IN VELIKOSTI PARCELE
A2: Pšenica | B2: KMETIJSKI INŠTITUT SLOVENIJE
A3: Pšenica | B3: Oddelek za ekonomiko kmetijstva | D3: psenica | E3: psenica | H3: psenicaB | I3: psenicaC | J3: psenicaA | K3: psenicaD | L3: psenicaE | M3: psenicaF
A4: Pšenica | B4: Pšenica | D4: 2025 | E4: 2026* | F4: Indeks 2026*/25 | J4: 2026* | R4: Indeks: M 3 = 100
A5: Pšenica | B5: Model | C5: Enota | H5: M 1 | I5: M 2 | J5: M 3 | K5: M 4 | L5: M 5 | M5: M 6 | P5: M 1 | Q5: M 2 | R5: M 3 | S5: M 4 | T5: M 5 | U5: M 6
A6: Pšenica | B6: Intenzivnost pridelave | C6: Kg/ha | D6: 6000 | E6: 6000 | H6: 7000 | I6: 6500 | J6: 6000 | K6: 5500 | L6: 5000 | M6: 6000 | P6: 116.66667 | Q6: 108.33333 | R6: 100 | S6: 91.666667 | T6: 83.333333 | U6: 100
A7: Pšenica
A8: Pšenica
A9: Pšenica | B9: Velikost poljine | C9: ha | D9: 1 | E9: 1 | F9: 100 | H9: 1 | I9: 1 | J9: 1 | K9: 1 | L9: 1 | M9: 5 | P9: 100 | Q9: 100 | R9: 100 | S9: 100 | T9: 100 | U9: 500
A10: Pšenica | B10: IZVLEČEK ANALITIČNE KALKULACIJE
A11: Pšenica | B11: Stroški blaga in storitev | C11: EUR/ha | D11: 1658.9322 | E11: 1757.8259 | F11: 105.96129 | H11: 1971.4815 | I11: 1878.5937 | J11: 1757.8259 | K11: 1677.7203 | L11: 1592.6901 | M11: 1697.3982 | P11: 112.15454 | Q11: 106.8703 | R11: 100 | S11: 95.442915 | T11: 90.605683 | U11: 96.562362
A12: Pšenica | B12: Od tega: seme | C12: EUR/ha | D12: 133 | E12: 133 | F12: 100 | H12: 133 | I12: 133 | J12: 133 | K12: 133 | L12: 133 | M12: 133 | P12: 100 | Q12: 100 | R12: 100 | S12: 100 | T12: 100 | U12: 100
A13: Pšenica | B13: gnojila | C13: EUR/ha | D13: 450.89315 | E13: 500.35565 | F13: 110.96989 | H13: 583.40623 | I13: 541.88094 | J13: 500.35565 | K13: 458.83036 | L13: 417.30507 | M13: 500.35565 | P13: 116.59831 | Q13: 108.29916 | R13: 100 | S13: 91.700845 | T13: 83.40169 | U13: 100
A14: Pšenica | B14: sredstva za varstvo | C14: EUR/ha | D14: 167.89149 | E14: 169.92129 | F14: 101.209 | H14: 218.3718 | I14: 199.56504 | J14: 169.92129 | K14: 169.92129 | L14: 169.92129 | M14: 169.92129 | P14: 128.5135 | Q14: 117.44558 | R14: 100 | S14: 100 | T14: 100 | U14: 100
A15: Pšenica | B15: najete storitve | C15: EUR/ha | D15: 513.24236 | E15: 540.59953 | F15: 105.33026 | H15: 590.61612 | I15: 565.60783 | J15: 540.59953 | K15: 515.59124 | L15: 490.58295 | M15: 540.59953 | P15: 109.25206 | Q15: 104.62603 | R15: 100 | S15: 95.37397 | T15: 90.747941 | U15: 100
A16: Pšenica | B16: zavarovanje | C16: EUR/ha | D16: 18.8244 | E16: 14.1183 | F16: 75 | H16: 16.47135 | I16: 15.294825 | J16: 14.1183 | K16: 12.941775 | L16: 11.76525 | M16: 14.1183 | P16: 116.66667 | Q16: 108.33333 | R16: 100 | S16: 91.666667 | T16: 83.333333 | U16: 100
A17: Pšenica | B17: domače strojne storitve | C17: EUR/ha | D17: 343.86887 | E17: 367.03242 | F17: 106.73616 | H17: 392.08412 | I17: 387.80101 | J17: 367.03242 | K17: 356.6664 | L17: 341.56966 | M17: 307.88189 | P17: 106.82547 | Q17: 105.65852 | R17: 100 | S17: 97.175721 | T17: 93.062531 | U17: 83.884113
A18: Pšenica | B18: Amortizacija | C18: EUR/ha | D18: 0 | E18: 0 | H18: 0 | I18: 0 | J18: 0 | K18: 0 | L18: 0 | M18: 0
A19: Pšenica | B19: Stroški domačega dela in kapitala | C19: EUR/ha | D19: 390.04553 | E19: 418.00044 | F19: 107.16709 | H19: 456.00282 | I19: 443.78073 | J19: 418.00044 | K19: 401.86181 | L19: 380.53005 | M19: 377.53393 | P19: 109.09147 | Q19: 106.16753 | R19: 100 | S19: 96.139087 | T19: 91.035801 | U19: 90.319026
A20: Pšenica | B20: Od tega: domače delo neto | C20: EUR/ha | D20: 170.13057 | E20: 183.57089 | F20: 107.9 | H20: 203.35756 | I20: 196.90279 | J20: 183.57089 | K20: 175.12921 | L20: 163.72111 | M20: 164.02097 | P20: 110.77876 | Q20: 107.26254 | R20: 100 | S20: 95.401409 | T20: 89.186862 | U20: 89.35021
A21: Pšenica | B21: Stroški skupaj | C21: EUR/ha | D21: 2048.9777 | E21: 2175.8263 | F21: 106.19082 | H21: 2427.4843 | I21: 2322.3745 | J21: 2175.8263 | K21: 2079.5821 | L21: 1973.2202 | M21: 2074.9321 | P21: 111.56609 | Q21: 106.73529 | R21: 100 | S21: 95.576658 | T21: 90.688313 | U21: 95.362948
A22: Pšenica | B22: Stranski pridelki | C22: EUR/ha | D22: 345.43011 | E22: 363.115 | F22: 105.11967 | H22: 418.71639 | I22: 390.91569 | J22: 363.115 | K22: 325.47875 | L22: 297.67806 | M22: 363.115 | P22: 115.31234 | Q22: 107.65617 | R22: 100 | S22: 89.635172 | T22: 81.979004 | U22: 100 | X22: Slika 1: Cenovne meje doseganja paritetnega dohodka - PŠENICA,
A23: Pšenica | B23: Stroški glavnega pridelka | C23: EUR/ha | D23: 1703.5476 | E23: 1812.7113 | F23: 106.40802 | H23: 2008.7679 | I23: 1931.4588 | J23: 1812.7113 | K23: 1754.1033 | L23: 1675.5421 | M23: 1711.8171 | P23: 110.81565 | Q23: 106.55082 | R23: 100 | S23: 96.766832 | T23: 92.432927 | U23: 94.434072 | X23: 2026, začasna oktobrska ocena, upoštevani stroški zmanjšani za subvencije
A24: Pšenica | B24: Subvencije | C24: EUR/ha | D24: 202.78 | E24: 202.78 | F24: 100 | H24: 202.78 | I24: 202.78 | J24: 202.78 | K24: 202.78 | L24: 202.78 | M24: 202.78 | P24: 100 | Q24: 100 | R24: 100 | S24: 100 | T24: 100 | U24: 100
A25: Pšenica | B25: Stroški, zmanjšani za subvencije | C25: EUR/ha | D25: 1500.7676 | E25: 1609.9313 | F25: 107.27386 | H25: 1805.9879 | I25: 1728.6788 | J25: 1609.9313 | K25: 1551.3233 | L25: 1472.7621 | M25: 1509.0371 | P25: 112.17795 | Q25: 107.37593 | R25: 100 | S25: 96.359596 | T25: 91.479811 | U25: 93.733012
A26: Pšenica | B26: Stroški, zmanjšani za subvencije/kg | C26: EUR/kg | D26: 0.25012794 | E26: 0.26832189 | F26: 107.27386 | H26: 0.25799827 | I26: 0.26595058 | J26: 0.26832189 | K26: 0.28205879 | L26: 0.29455243 | M26: 0.25150619 | P26: 96.152525 | Q26: 99.116245 | R26: 100 | S26: 105.11956 | T26: 109.77577 | U26: 93.733012
A27: Pšenica | B27: Prodajna cena | C27: EUR/kg | D27: 0.193 | E27: 0.185 | F27: 95.854922 | H27: 0.185 | I27: 0.185 | J27: 0.185 | K27: 0.185 | L27: 0.185 | M27: 0.185 | P27: 100 | Q27: 100 | R27: 100 | S27: 100 | T27: 100 | U27: 100
A28: Pšenica | B28: Vrednost proizvodnje skupaj | C28: EUR/ha | D28: 1706.2101 | E28: 1675.895 | F28: 98.223249 | H28: 1916.4964 | I28: 1796.1957 | J28: 1675.895 | K28: 1545.7588 | L28: 1425.4581 | M28: 1675.895 | P28: 114.35659 | Q28: 107.1783 | R28: 100 | S28: 92.234821 | T28: 85.056526 | U28: 100
A29: Pšenica | B29: Od tega interna realizacija | C29: EUR/ha | D29: 0 | E29: 0 | H29: 0 | I29: 0 | J29: 0 | K29: 0 | L29: 0 | M29: 0
A30: Pšenica | B30: OBRAČUN DOHODKA
A31: Pšenica | B31: Vrednost finalne proizvodnje skupaj | C31: EUR/ha | D31: 1706.2101 | E31: 1675.895 | F31: 98.223249 | H31: 1916.4964 | I31: 1796.1957 | J31: 1675.895 | K31: 1545.7588 | L31: 1425.4581 | M31: 1675.895 | P31: 114.35659 | Q31: 107.1783 | R31: 100 | S31: 92.234821 | T31: 85.056526 | U31: 100
A32: Pšenica | B32: Stroški zmanjšani za interno realizacijo | C32: EUR/ha | D32: 2048.9777 | E32: 2175.8263 | F32: 106.19082 | H32: 2427.4843 | I32: 2322.3745 | J32: 2175.8263 | K32: 2079.5821 | L32: 1973.2202 | M32: 2074.9321 | P32: 111.56609 | Q32: 106.73529 | R32: 100 | S32: 95.576658 | T32: 90.688313 | U32: 95.362948
A33: Pšenica | B33: Stroški kupljenega blaga in storitev | C33: EUR/ha | D33: 1473.6147 | E33: 1569.0872 | F33: 106.4788 | H33: 1769.016 | I33: 1678.8857 | J33: 1569.0872 | K33: 1494.3399 | L33: 1417.6066 | M33: 1539.2879 | P33: 112.74172 | Q33: 106.9976 | R33: 100 | S33: 95.236256 | T33: 90.345939 | U33: 98.100848
A34: Pšenica | B34: Amortizacija | C34: EUR/ha | D34: 138.89487 | E34: 139.13454 | F34: 100.17255 | H34: 148.91711 | I34: 146.92797 | J34: 139.13454 | K34: 135.29341 | L34: 129.36521 | M34: 115.91356 | P34: 107.03102 | Q34: 105.60136 | R34: 100 | S34: 97.23927 | T34: 92.978501 | U34: 83.310413
A35: Pšenica | B35: Stroški domačega dela in kapitala | C35: EUR/ha | D35: 436.46818 | E35: 467.60454 | F35: 107.13371 | H35: 509.55121 | I35: 496.56078 | J35: 467.60454 | K35: 449.94872 | L35: 426.24837 | M35: 419.73067 | P35: 108.97054 | Q35: 106.19246 | R35: 100 | S35: 96.224198 | T35: 91.155739 | U35: 89.761889
A36: Pšenica | B36: Bruto dodana vrednost | C36: EUR/ha | D36: 232.59544 | E36: 106.80776 | F36: 45.919971 | H36: 147.48044 | I36: 117.30998 | J36: 106.80776 | K36: 51.418813 | L36: 7.8514539 | M36: 136.60711 | P36: 138.08027 | Q36: 109.83283 | R36: 100 | S36: 48.141459 | T36: 7.3510148 | U36: 127.89999
A37: Pšenica | B37: Neto dodana vrednost | C37: EUR/ha | D37: 93.700564 | E37: -32.326786 | H37: -1.4366756 | I37: -29.617991 | J37: -32.326786 | K37: -83.874601 | L37: -121.51376 | M37: 20.693549
A38: Pšenica | B38: Neto dodana vrednost/uro | C38: EUR/uro | D38: 4.428223 | E38: -1.5304996 | H38: -0.061597401 | I38: -1.308622 | J38: -1.5304996 | K38: -4.1540313 | L38: -6.423667 | M38: 1.1031224 | X38: Slika 2: Kazalniki modelne ocene dohodka - PŠENICA,
A39: Pšenica | B39: * začasna oktobrska ocena | D39: 0.018193952 | E39: 0 | H39: 0 | I39: 0 | J39: 0 | K39: 0 | L39: 0 | M39: 0 | X39: 2026, začasna oktobrska ocena
A40: Ječmen tržni | B40: KMETIJSKI INŠTITUT SLOVENIJE
...

Sheet PODATKI grafi
O35: KONTROLA | Q35: BRUTO DODANA VREDNOST
O37: =+#REF! -> #REF! | Q37: =Q88-'2026'!H36 -> -178.84 | R37: =R88-'2026'!I36 -> -178.84 | S37: =S88-'2026'!J36 -> -178.84 | T37: =T88-'2026'!K36 -> -178.84 | U37: =U88-'2026'!L36 -> -178.84 | V37: =V88-'2026'!M36 -> -178.84
O38: =#REF! -> #REF! | Q38: ='2026'!H74-Q125 -> 178.84 | R38: ='2026'!I74-R125 -> 178.84 | S38: ='2026'!J74-S125 -> 178.84 | T38: ='2026'!K74-T125 -> 178.84 | U38: ='2026'!L74-U125 -> 178.84 | V38: ='2026'!M74-V125 -> 178.84
O39: =#REF! -> #REF! | Q39: ='2026'!H112-Q162 -> 178.84 | R39: ='2026'!I112-R162 -> 178.84 | S39: ='2026'!J112-S162 -> 178.84 | T39: ='2026'!K112-T162 -> 178.84 | U39: ='2026'!L112-U162 -> 178.84 | V39: ='2026'!M112-V162 -> 178.84
O40: =#REF! -> #REF! | Q40: ='2026'!#REF!-Q199 -> #REF! | R40: ='2026'!#REF!-R199 -> #REF! | S40: ='2026'!#REF!-S199 -> #REF! | T40: ='2026'!#REF!-T199 -> #REF! | U40: ='2026'!#REF!-U199 -> #REF! | V40: ='2026'!#REF!-V199 -> #REF!
O41: =#REF! -> #REF! | Q41: ='2026'!#REF!-Q236 -> #REF! | R41: ='2026'!#REF!-R236 -> #REF! | S41: ='2026'!#REF!-S236 -> #REF! | T41: ='2026'!#REF!-T236 -> #REF! | U41: ='2026'!#REF!-U236 -> #REF! | V41: ='2026'!#REF!-V236 -> #REF!
O42: =#REF! -> #REF! | Q42: ='2026'!#REF!-Q273 -> #REF! | R42: ='2026'!#REF!-R273 -> #REF! | S42: ='2026'!#REF!-S273 -> #REF! | T42: ='2026'!#REF!-T273 -> #REF! | U42: ='2026'!#REF!-U273 -> #REF! | V42: ='2026'!#REF!-V273 -> #REF!
O43: =#REF! -> #REF! | Q43: ='2026'!#REF!-Q310 -> #REF! | R43: ='2026'!#REF!-R310 -> #REF! | S43: ='2026'!#REF!-S310 -> #REF! | T43: ='2026'!#REF!-T310 -> #REF! | U43: ='2026'!#REF!-U310 -> #REF! | V43: ='2026'!#REF!-V310 -> #REF!
O44: =#REF! -> #REF! | Q44: ='2026'!#REF!-Q347 -> #REF! | R44: ='2026'!#REF!-R347 -> #REF! | S44: ='2026'!#REF!-S347 -> #REF! | T44: ='2026'!#REF!-T347 -> #REF!
O45: =#REF! -> #REF! | Q45: ='2026'!#REF!-Q384 -> #REF! | R45: ='2026'!#REF!-R384 -> #REF! | S45: ='2026'!#REF!-S384 -> #REF! | T45: ='2026'!#REF!-T384 -> #REF! | U45: ='2026'!#REF!-U384 -> #REF! | V45: ='2026'!#REF!-V384 -> #REF!
O46: =#REF! -> #REF! | Q46: ='2026'!#REF!-Q421 -> #REF! | R46: ='2026'!#REF!-R421 -> #REF! | S46: ='2026'!#REF!-S421 -> #REF! | T46: ='2026'!#REF!-T421 -> #REF! | U46: ='2026'!#REF!-U421 -> #REF! | V46: ='2026'!#REF!-V421 -> #REF!
A50: reg+prem+dod1 | B50: reg+prem+dod5 | C50: reg+prem+dod3 | D50: reg+prem+dod4 | O50: ='2026'!#REF! -> #REF! | AD50: GRAFI TU LE ZA ANALIZO, IZPIS NA leto!
F51: 1 | G51: =+F51+1 -> 2 | H51: =+G51+1 -> 3 | I51: =+H51+1 -> 4 | J51: =+I51+1 -> 5 | K51: =+J51+1 -> 6 | L51: =+K51+1 -> 7 | M51: =+L51+1 -> 8 | N51: =+M51+1 -> 9 | O51: =+N51+1 -> 10
Q52: EKONOMSKI KAZALCI PRI RAZLIČNI INTENZIVNOSTI IN VELIKOSTI PARCELE
H54: =1 -> 1 | I54: =+J56 -> Pšenica | J54: KMETIJSKI INŠTITUT SLOVENIJE | O54: =+O62-O74+O67-'2026'!E26 -> 0.029806667 | Q54: =+Q62-Q74+Q67-'2026'!H26 -> 0.025548571 | R54: =+R62-R74+R67-'2026'!I26 -> 0.027513846 | S54: =+S62-S74+S67-'2026'!J26 -> 0.029806667 | T54: =+T62-T74+T67-'2026'!K26 -> 0.032516364 | U54: =+U62-U74+U67-'2026'!L26 -> 0.035768 | V54: =+V62-V74+V67-'2026'!M26 -> 0.029806667
H55: =H54+1 -> 2 | I55: =+I54 -> Pšenica | J55: Oddelek za ekonomiko kmetijstva | O55: =#REF! -> #REF! | Q55: =#REF! -> #REF! | R55: =#REF! -> #REF! | S55: =#REF! -> #REF! | T55: =#REF! -> #REF! | U55: =#REF! -> #REF! | V55: =#REF! -> #REF!
F56: =#REF! -> #REF! | H56: =H55+1 -> 3 | I56: =+I55 -> Pšenica | J56: Pšenica | K56: Enota | O56: =+O50 -> #REF! | S56: =+O56 -> #REF! | X56: Indeks: M 3 =100
H57: =H56+1 -> 4 | I57: =+I56 -> Pšenica | J57: Model | Q57: M 1 | R57: M 2 | S57: M 3 | T57: M 4 | U57: M5 | V57: M6 | X57: M 1 | Y57: M 3 | Z57: M 4 | AA57: M5 | AB57: M6
A58: Prid (neto za LC v analitični) | H58: =H57+1 -> 5 | I58: =+I56 -> Pšenica | J58: Intenzivnost pridelave | K58: Kg/ha | M58: =O58-#REF! -> #REF! | O58: 6000 | Q58: 7000 | R58: 6500 | S58: 6000 | T58: 5500 | U58: 5000 | V58: 6000 | X58: =Q58/$S58*100 -> 116.66667 | Y58: =R58/$S58*100 -> 108.33333 | Z58: =T58/$S58*100 -> 91.666667 | AA58: =U58/$S58*100 -> 83.333333 | AB58: =V58/$S58*100 -> 100
A59: str1_kg | H59: =H58+1 -> 6 | I59: =+I56 -> Pšenica | J59: Stranski pridelki | K59: Kg/ha | O59: 3000 | Q59: 3500 | R59: 3250 | S59: 3000 | T59: 2750 | U59: 2500 | V59: 3000 | X59: =Q59/$S59*100 -> 116.66667 | Y59: =R59/$S59*100 -> 108.33333 | Z59: =T59/$S59*100 -> 91.666667 | AA59: =U59/$S59*100 -> 83.333333 | AB59: =V59/$S59*100 -> 100
A60: vel parcele | H60: =H59+1 -> 7 | I60: =+I57 -> Pšenica | J60: Velikost parcele | K60: ha | O60: 1 | Q60: 1 | R60: 1 | S60: 1 | T60: 1 | U60: 1 | V60: 5 | X60: =Q60/$S60*100 -> 100 | Y60: =R60/$S60*100 -> 100 | Z60: =T60/$S60*100 -> 100 | AA60: =U60/$S60*100 -> 100 | AB60: =V60/$S60*100 -> 500
A61: Kupljen material in storitve | H61: =H60+1 -> 8 | I61: =+I58 -> Pšenica | J61: Kupljen material in storitve | K61: EUR/ha | O61: 1569.0872 | Q61: 1769.016 | R61: 1678.8857 | S61: 1569.0872 | T61: 1494.3399 | U61: 1417.6066 | V61: 1539.2879 | X61: =Q61/$S61*100 -> 112.74172 | Y61: =R61/$S61*100 -> 106.9976 | Z61: =T61/$S61*100 -> 95.236256 | AA61: =U61/$S61*100 -> 90.345939 | AB61: =V61/$S61*100 -> 98.100848
A62: STROŠKI SKUPAJ | H62: =H61+1 -> 9 | I62: =+I60 -> Pšenica | J62: Stroški skupaj | K62: EUR/ha | O62: 2175.8263 | Q62: 2427.4843 | R62: 2322.3745 | S62: 2175.8263 | T62: 2079.5821 | U62: 1973.2202 | V62: 2074.9321 | X62: =Q62/$S62*100 -> 111.56609 | Y62: =R62/$S62*100 -> 106.73529 | Z62: =T62/$S62*100 -> 95.576658 | AA62: =U62/$S62*100 -> 90.688313 | AB62: =V62/$S62*100 -> 95.362948
A63: Stranski pridelki | H63: =H62+1 -> 10 | I63: =+I61 -> Pšenica | J63: Stranski pridelki | K63: EUR/ha | O63: 363.115 | Q63: 418.71639 | R63: 390.91569 | S63: 363.115 | T63: 325.47875 | U63: 297.67806 | V63: 363.115 | X63: =Q63/$S63*100 -> 115.31234 | Y63: =R63/$S63*100 -> 107.65617 | Z63: =T63/$S63*100 -> 89.635172 | AA63: =U63/$S63*100 -> 81.979004 | AB63: =V63/$S63*100 -> 100
H64: =H63+1 -> 11 | I64: =+I62 -> Pšenica | J64: Stroški glavnega pridelka | K64: EUR/ha | O64: =+O62-O63 -> 1812.7113 | Q64: =+Q62-Q63 -> 2008.7679 | R64: =+R62-R63 -> 1931.4588 | S64: =+S62-S63 -> 1812.7113 | T64: =+T62-T63 -> 1754.1033 | U64: =+U62-U63 -> 1675.5421 | V64: =+V62-V63 -> 1711.8171 | X64: =Q64/$S64*100 -> 110.81565 | Y64: =R64/$S64*100 -> 106.55082 | Z64: =T64/$S64*100 -> 96.766832 | AA64: =U64/$S64*100 -> 92.432927 | AB64: =V64/$S64*100 -> 94.434072
A65: reg+prem+dod1 | B65: reg+prem+dod5 | C65: reg+prem+dod3 | D65: reg+prem+dod4 | E65: reg+prem+dod5 | H65: =H64+1 -> 12 | I65: =+I63 -> Pšenica | J65: Subvencije | K65: EUR/ha | O65: 23.94 | Q65: 23.94 | R65: 23.94 | S65: 23.94 | T65: 23.94 | U65: 23.94 | V65: 23.94 | X65: =Q65/$S65*100 -> 100 | Y65: =R65/$S65*100 -> 100 | Z65: =T65/$S65*100 -> 100 | AA65: =U65/$S65*100 -> 100 | AB65: =V65/$S65*100 -> 100
H66: =H65+1 -> 13 | I66: =+I64 -> Pšenica | J66: Stroški, zmanjšani za subvencije | K66: EUR/ha | O66: =+O64-O65 -> 1788.7713 | Q66: =+Q64-Q65 -> 1984.8279 | R66: =+R64-R65 -> 1907.5188 | S66: =+S64-S65 -> 1788.7713 | T66: =+T64-T65 -> 1730.1633 | U66: =+U64-U65 -> 1651.6021 | V66: =+V64-V65 -> 1687.8771 | X66: =Q66/$S66*100 -> 110.9604 | Y66: =R66/$S66*100 -> 106.63849 | Z66: =T66/$S66*100 -> 96.723561 | AA66: =U66/$S66*100 -> 92.331653 | AB66: =V66/$S66*100 -> 94.359581
H67: =H66+1 -> 14 | I67: =+I65 -> Pšenica | J67: Stroški, zmanjšani za subvencije/kg | K67: EUR/kg | O67: =+O66/O58 -> 0.29812855 | Q67: =+Q66/Q58 -> 0.28354684 | R67: =+R66/R58 -> 0.29346443 | S67: =+S66/S58 -> 0.29812855 | T67: =+T66/T58 -> 0.31457515 | U67: =+U66/U58 -> 0.33032043 | V67: =+V66/V58 -> 0.28131285 | X67: =Q67/$S67*100 -> 95.108917 | Y67: =R67/$S67*100 -> 98.435531 | Z67: =T67/$S67*100 -> 105.51661 | AA67: =U67/$S67*100 -> 110.79798 | AB67: =V67/$S67*100 -> 94.359581
A68: davek_a | H68: =H67+1 -> 15 | J68: =+A68 -> davek_a | O68: 23.368255 | Q68: 20.597903 | R68: 21.486056 | S68: 23.368255 | T68: 24.545203 | U68: 26.145304 | V68: 26.210997 | X68: =Q68/$S68*100 -> 88.144808 | Y68: =R68/$S68*100 -> 91.94549 | Z68: =T68/$S68*100 -> 105.03653 | AA68: =U68/$S68*100 -> 111.88385 | AB68: =V68/$S68*100 -> 112.16498
A69: Pokoj obvezno | H69: =H68+1 -> 16 | J69: =+A69 -> Pokoj obvezno | O69: 35.501742 | Q69: 39.202761 | R69: 38.041857 | S69: 35.501742 | T69: 33.937593 | U69: 31.795289 | V69: 31.530555 | X69: =Q69/$S69*100 -> 110.42489 | Y69: =R69/$S69*100 -> 107.1549 | Z69: =T69/$S69*100 -> 95.594163 | AA69: =U69/$S69*100 -> 89.559799 | AB69: =V69/$S69*100 -> 88.814108
A70: Zdrav obvezno | H70: =H69+1 -> 17 | J70: =+A70 -> Zdrav obvezno | O70: 20.820054 | Q70: 22.990522 | R70: 22.309708 | S70: 20.820054 | T70: 19.902756 | U70: 18.646398 | V70: 18.491145 | X70: =Q70/$S70*100 -> 110.42489 | Y70: =R70/$S70*100 -> 107.1549 | Z70: =T70/$S70*100 -> 95.594163 | AA70: =U70/$S70*100 -> 89.559799 | AB70: =V70/$S70*100 -> 88.814108 | AF70: Slika 1: Cenovne meje doseganja paritetnega dohodka - PŠENICA,
A71: Pokoj dodatno | H71: =H70+1 -> 18 | J71: =+A71 -> Pokoj dodatno | O71: 28.343812 | Q71: 31.298624 | R71: 30.371784 | S71: 28.343812 | T71: 27.09503 | U71: 25.384661 | V71: 25.173304 | X71: =Q71/$S71*100 -> 110.42489 | Y71: =R71/$S71*100 -> 107.1549 | Z71: =T71/$S71*100 -> 95.594163 | AA71: =U71/$S71*100 -> 89.559799 | AB71: =V71/$S71*100 -> 88.814108 | AF71: ="letina "&M52&", upoštevani stroški zmanjšani za subvencije" -> letina , upoštevani stroški zmanjšani za subvencije
A72: Zdrav dodatno | H72: =H71+1 -> 19 | J72: =+A72 -> Zdrav dodatno | O72: 16.622274 | Q72: 18.355129 | R72: 17.811582 | S72: 16.622274 | T72: 15.889924 | U72: 14.886875 | V72: 14.762925 | X72: =Q72/$S72*100 -> 110.42489 | Y72: =R72/$S72*100 -> 107.1549 | Z72: =T72/$S72*100 -> 95.594163 | AA72: =U72/$S72*100 -> 89.559799 | AB72: =V72/$S72*100 -> 88.814108
A73: Regresi | H73: =H72+1 -> 20 | J73: =+A73 -> Regresi | O73: 85.187395 | Q73: 94.06809 | R73: 91.28247 | S73: 85.187395 | T73: 81.434177 | U73: 76.293659 | V73: 75.658425 | X73: =Q73/$S73*100 -> 110.42489 | Y73: =R73/$S73*100 -> 107.1549 | Z73: =T73/$S73*100 -> 95.594163 | AA73: =U73/$S73*100 -> 89.559799 | AB73: =V73/$S73*100 -> 88.814108
A74: SUM element | H74: =H73+1 -> 21 | J74: =+A74 -> SUM element | O74: 2175.8263 | Q74: 2427.4843 | R74: 2322.3745 | S74: 2175.8263 | T74: 2079.5821 | U74: 1973.2202 | V74: 2074.9321 | X74: =Q74/$S74*100 -> 111.56609 | Y74: =R74/$S74*100 -> 106.73529 | Z74: =T74/$S74*100 -> 95.576658 | AA74: =U74/$S74*100 -> 90.688313 | AB74: =V74/$S74*100 -> 95.362948
A75: reg+prem+dod1 | B75: reg+prem+dod5 | C75: reg+prem+dod3 | D75: reg+prem+dod4 | E75: reg+prem+dod5 | H75: =H74+1 -> 22 | J75: Subvencije | O75: 23.94 | Q75: 23.94 | R75: 23.94 | S75: 23.94 | T75: 23.94 | U75: 23.94 | V75: 23.94 | X75: =Q75/$S75*100 -> 100 | Y75: =R75/$S75*100 -> 100 | Z75: =T75/$S75*100 -> 100 | AA75: =U75/$S75*100 -> 100 | AB75: =V75/$S75*100 -> 100
A76: vred glav prid | H76: =H75+1 -> 23 | J76: Vrednost pridelave_tržna | K76: glavni in stranski | O76: 1110 | Q76: 1295 | R76: 1202.5 | S76: 1110 | T76: 1017.5 | U76: 925 | V76: 1110
H77: =H76+1 -> 24 | O77: =+O62-O75-O76 -> 1041.8863 | P77: stroški vsi | Q77: =+Q62-Q75-Q63 -> 1984.8279 | R77: =+R62-R75-R63 -> 1907.5188 | S77: =+S62-S75-S63 -> 1788.7713 | T77: =+T62-T75-T63 -> 1730.1633 | U77: =+U62-U75-U63 -> 1651.6021 | V77: =+V62-V75-V63 -> 1687.8771
H78: =H77+1 -> 25 | O78: =O77-O69-O70 -> 985.56453 | P78: stroški-obv dajatve | Q78: =Q77-Q69-Q70 -> 1922.6346 | R78: =R77-R69-R70 -> 1847.1672 | S78: =S77-S69-S70 -> 1732.4495 | T78: =T77-T69-T70 -> 1676.323 | U78: =U77-U69-U70 -> 1601.1604 | V78: =V77-V69-V70 -> 1637.8554
H79: =H78+1 -> 26 | O79: =O78-O71-O72-O73 -> 855.41105 | P79: stroški-vse dajatve | Q79: =Q78-Q71-Q72-Q73 -> 1778.9128 | R79: =R78-R71-R72-R73 -> 1707.7014 | S79: =S78-S71-S72-S73 -> 1602.296 | T79: =T78-T71-T72-T73 -> 1551.9038 | U79: =U78-U71-U72-U73 -> 1484.5952 | V79: =V78-V71-V72-V73 -> 1522.2608
...
